BEGIN:VCALENDAR
VERSION:2.0
PRODID:-//ChamberMaster//Event Calendar 2.0//EN
METHOD:PUBLISH
X-PUBLISHED-TTL:P3D
REFRESH-INTERVAL:P3D
CALSCALE:GREGORIAN
BEGIN:VEVENT
DTSTART;VALUE=DATE:20130213
DTEND;VALUE=DATE:20130214
TRANSP:TRANSPARENT
X-MICROSOFT-CDO-ALLDAYEVENT:TRUE
SUMMARY:Senior Gathering Council
DESCRIPTION:Come and learn more about the Hastings Prescott Area Arts Council.  For questions\, please call Genny Taeve at 715-262-8323
X-ALT-DESC;FMTTYPE=text/html:Come and learn more about the Hastings Prescott Area Arts Council.&nbsp\; For questions\, please call Genny Taeve at 715-262-8323
LOCATION:Great River Road Learning Center 200 Monroe Street\, Prescott
UID:e.606.113775
SEQUENCE:3
DTSTAMP:20260419T145955Z
URL:https://www.hastingsmn.org/events/details/senior-gathering-council-02-13-2013-113775
END:VEVENT

END:VCALENDAR
