BEGIN:VCALENDAR
VERSION:2.0
PRODID:-//ChamberMaster//Event Calendar 2.0//EN
METHOD:PUBLISH
X-PUBLISHED-TTL:P3D
REFRESH-INTERVAL:P3D
CALSCALE:GREGORIAN
BEGIN:VEVENT
DTSTART:20100402T234500Z
DTEND:20100403T024500Z
X-MICROSOFT-CDO-ALLDAYEVENT:FALSE
SUMMARY:Scott Hansen Comedy Dinner at Afton House Inn
DESCRIPTION:*April Fools* Comedy Dinner Event \nFriday\, April 2\, 2010 \n\nReady to laugh hard? \nEnjoy a 3-course dinner and a knee slapping\, downright Hilarious Comedy \nShow featuring Minnesota's Favorite Comedian Scott Hansen \n\nAll for just $49.95 per person (plus tax & 15% gratuity) \nAdd wine parings (3 wines) for just $15 more! \nAdd beer pairings (3 ale?s) for just $12 more! \nCoffee and Soft Drinks Included. Cash Bar Available \n\n6:45pm-7pm - Seating \n7:00pm: Three Course Dinner Served \n8:00pm - 9:45pm: Comedy Show \n\nComedy Dinner Event Menu \n\nSalad Course \nAfton House Inn's Famous Caesar Salad \nChardonnay \, LaTerre \, California \nLeinenkugel's Honey Weiss\, American Pale Honey-Wheat Ale \n\nEntr e (Choose One) \nTortilla Encrusted Tilapia with Mashed Potatoes and Seasonal Vegetables \nChicken Chardonnay with Mashed Potatoes and Seasonal Vegetables \nPinot Noir\, LeGrande Noir\, Vin d\, Pays Doc\, France \nBlue Moon\, Belgian Style Ale with a touch of Navel Orange \n\nDessert \nChocolate Molten Lava Cake \nCabernet Sauvignon\, LaTerre\, California \nNew Belgium\, Fat Tire\, Amber Ale \n\nRomantic Room Special! \n35% off any Jacuzzi & Fireplace Room \nwith Comedy Dinner Reservations \n\nFor Reservations Call - 651.436.8883
X-ALT-DESC;FMTTYPE=text/html:<div>*April Fools* Comedy Dinner Event <br />Friday\, April 2\, 2010 <br /><br />Ready to laugh hard? <br />Enjoy a 3-course dinner and a knee slapping\, downright Hilarious Comedy <br />Show featuring Minnesota's Favorite Comedian Scott Hansen <br /><br />All for just $49.95 per person (plus tax &amp\; 15% gratuity) <br />Add wine parings (3 wines) for just $15 more! <br />Add beer pairings (3 ale?s) for just $12 more! <br />Coffee and Soft Drinks Included. Cash Bar Available <br /><br />6:45pm-7pm - Seating <br />7:00pm: Three Course Dinner Served <br />8:00pm -&nbsp\;9:45pm: Comedy Show <br /><br />Comedy Dinner Event Menu <br /><br />Salad Course <br />Afton House Inn's Famous Caesar Salad <br />Chardonnay&nbsp\;\, LaTerre&nbsp\;\, California <br />Leinenkugel's Honey Weiss\, American Pale Honey-Wheat Ale <br /><br />Entr&eacute\;e (Choose One) <br />Tortilla Encrusted Tilapia with Mashed Potatoes and Seasonal Vegetables <br />Chicken Chardonnay with Mashed Potatoes and Seasonal Vegetables <br />Pinot Noir\, LeGrande Noir\, Vin d\, Pays Doc\, France <br />Blue Moon\, Belgian Style Ale with a touch of Navel Orange <br /><br />Dessert <br />Chocolate Molten Lava Cake <br />Cabernet Sauvignon\, LaTerre\, California <br />New Belgium\, Fat Tire\, Amber Ale <br /><br />Romantic Room Special! <br />35% off any Jacuzzi &amp\; Fireplace Room <br />with Comedy Dinner Reservations <br /><br />For Reservations Call - 651.436.8883 <br /><br /><br /><br /><br /><br /><br />&nbsp\;</div>
LOCATION:3291 S. St. Croix Trail\, Afton\, MN 55001
UID:e.606.111539
SEQUENCE:3
DTSTAMP:20260425T183243Z
URL:https://www.hastingsmn.org/events/details/scott-hansen-comedy-dinner-at-afton-house-inn-04-02-2010-111539
END:VEVENT

END:VCALENDAR
