BEGIN:VCALENDAR
VERSION:2.0
PRODID:-//ChamberMaster//Event Calendar 2.0//EN
METHOD:PUBLISH
X-PUBLISHED-TTL:P3D
REFRESH-INTERVAL:P3D
CALSCALE:GREGORIAN
BEGIN:VEVENT
DTSTART:20120330T234500Z
DTEND:20120331T030000Z
X-MICROSOFT-CDO-ALLDAYEVENT:FALSE
SUMMARY:Scott Hansen Comedy Dinner
DESCRIPTION:The Afton House Inn presents Scott Hansen!  Come enjoy a three course dinner with entree choices of chicken marsala or herb encrusted tilapia.  Then laugh along with the comedian Scott Hansen.  \n\n	\n\n	Stay at the Inn and receive a 20% discount off a Jacuzzi fireplace suite when you come for the show.
X-ALT-DESC;FMTTYPE=text/html:<p class="MsoNormal" style="margin: 0in 0in 0pt">\n	<span lang="EN" style="font-family: arial\; color: #222222\; font-size: 9pt\; mso-ansi-language: en">The Afton House Inn presents Scott Hansen!&nbsp\; Come enjoy a three course dinner&nbsp\;with entree choices&nbsp\;of chicken marsala or herb encrusted tilapia.&nbsp\; Then laugh along with the comedian Scott Hansen.&nbsp\;&nbsp\;<br />\n	<br />\n	Stay at the Inn and receive a 20% discount off a Jacuzzi fireplace suite when you come for the show.&nbsp\;</span></p>\n
LOCATION:3291 St. Croix Trail South\, Afton \, MN 55001
UID:e.606.113393
SEQUENCE:3
DTSTAMP:20260420T102943Z
URL:https://www.hastingsmn.org/events/details/scott-hansen-comedy-dinner-03-30-2012-113393
END:VEVENT

END:VCALENDAR
