BEGIN:VCALENDAR
VERSION:2.0
PRODID:-//ChamberMaster//Event Calendar 2.0//EN
METHOD:PUBLISH
X-PUBLISHED-TTL:P3D
REFRESH-INTERVAL:P3D
CALSCALE:GREGORIAN
BEGIN:VEVENT
DTSTART:20130217T200000Z
DTEND:20130217T204500Z
X-MICROSOFT-CDO-ALLDAYEVENT:FALSE
SUMMARY:Saving the Historic Point Douglas School
DESCRIPTION:Mavis and Bob Voight of Denmark Township Historic Society will talk about the Society's efforts to save the historic Point Douglas School.  The school is more than 160 years old and is on the St. Croix Scenic Trail.  Learn about the history of this school\, its importance to the region\, and the efforts to fund its restoration and get it listed on the National Historic Register.
X-ALT-DESC;FMTTYPE=text/html:<p>\n	Mavis and Bob Voight of Denmark Township Historic Society will talk about the Society&#39\;s efforts to save the historic Point Douglas School.&nbsp\; The school is more than 160 years old and is on the St. Croix Scenic Trail.&nbsp\; Learn about the history of this school\, its importance to the region\, and the efforts to fund its restoration and get it listed on the National Historic Register.</p>\n
LOCATION:Great River Road Visitor and Learning Center
UID:e.606.113776
SEQUENCE:3
DTSTAMP:20260419T150052Z
URL:https://www.hastingsmn.org/events/details/saving-the-historic-point-douglas-school-02-17-2013-113776
END:VEVENT

END:VCALENDAR
