BEGIN:VCALENDAR
VERSION:2.0
PRODID:-//ChamberMaster//Event Calendar 2.0//EN
METHOD:PUBLISH
X-PUBLISHED-TTL:P3D
REFRESH-INTERVAL:P3D
CALSCALE:GREGORIAN
BEGIN:VEVENT
DTSTART:20120304T014500Z
DTEND:20120304T031500Z
X-MICROSOFT-CDO-ALLDAYEVENT:FALSE
SUMMARY:Salute tp Our Military & Veteran Families - Open Public Skating
DESCRIPTION:March 3rd\, Saturday\, 7:45 to 9:15 pm.\, Salute to Our Military & Veteran Families   Open Public Skating\, Hastings Civic Arena\, 2801 Red Wing Blvd\, Hastings\, MN 55033. Honor our military and veteran families by bring a nonperishable food item for our supporting partner\, Hastings Family Services in its mission to provide assistance and support to our neighbors\, often those who fall between the cracks in our society\, those facing unexpected financial crisis\, isolation\, or loneliness. March is Minnesota FoodShare Month. Hosted by the City of Hastings\, Department of Parks and Recreation\, Hasting Civic Arena in collaboration with the Community Beyond The Yellow Ribbon initiative.
X-ALT-DESC;FMTTYPE=text/html:<p class="MsoNormal" style="margin: 0in 0in 0pt">\n	<span style="font-size: 12px"><span style="color: black">March 3<sup>rd</sup>\, Saturday\, 7:45 to 9:15 pm.\, Salute to Our Military &amp\; Veteran Families &ndash\; Open Public Skating\, Hastings Civic Arena\, 2801 Red Wing Blvd\, Hastings\, MN 55033. Honor our military and veteran families by bring a nonperishable food item for our supporting partner\, Hastings Family Services in its mission to provide assistance and support to our neighbors\, often those who fall between the cracks in our society\, those facing unexpected financial crisis\, isolation\, or loneliness. March is Minnesota FoodShare Month. Hosted by the City of Hastings\, Department of Parks and Recreation\, Hasting Civic Arena in collaboration with the Community Beyond The Yellow Ribbon initiative.</span></span></p>\n
LOCATION:Hastings Civic Arena\, 2801 Red Wing Blvd\, Hastings\, MN
UID:e.606.113392
SEQUENCE:3
DTSTAMP:20260422T103648Z
URL:https://www.hastingsmn.org/events/details/salute-tp-our-military-veteran-families-open-public-skating-03-03-2012-113392
END:VEVENT

END:VCALENDAR
