BEGIN:VCALENDAR
VERSION:2.0
PRODID:-//ChamberMaster//Event Calendar 2.0//EN
METHOD:PUBLISH
X-PUBLISHED-TTL:P3D
REFRESH-INTERVAL:P3D
CALSCALE:GREGORIAN
BEGIN:VEVENT
DTSTART;VALUE=DATE:20111008
DTEND;VALUE=DATE:20111010
TRANSP:TRANSPARENT
X-MICROSOFT-CDO-ALLDAYEVENT:TRUE
SUMMARY:Saint Croix Valley Apple Fest
DESCRIPTION:Area apple orchards and Carpenter Nature Center celebrate the apple harvest along the bluffs of the St. Croix River. Enjoy apple picking\, hayrides through the pumpkin patch\, games\, face painting\, cider apple pressing demonstrations\, corn mazes\, farm animals\, children's play area\, chain carving demonstrations\, musical entertainment and an outdoor market. For more information call (651) 651-436-8385 or 651-437-7126 or visit www.aftonapple.com\, www.fischerscroixfarmorchard.com or www.carpenternaturecenter.org.
X-ALT-DESC;FMTTYPE=text/html:<div>\n	Area apple orchards and Carpenter Nature Center celebrate the apple harvest along the bluffs of the St. Croix River. Enjoy apple picking\, hayrides through the pumpkin patch\, games\, face painting\, cider apple pressing demonstrations\, corn mazes\, farm animals\, children&#39\;s play area\, chain carving demonstrations\, musical entertainment and an outdoor market. For more information call (651) 651-436-8385 or 651-437-7126 or visit <a href="http://www.aftonapple.com\,/" target="_blank">www.aftonapple.com\,</a> <a href="http://www.fischerscroixfarmorchard.com/" target="_blank">www.fischerscroixfarmorchard.com</a> or <a href="http://www.carpenternaturecenter.org./" target="_blank">www.carpenternaturecenter.org.</a></div>\n
LOCATION:Area orchards in the St. Croix Valley.
UID:e.606.113321
SEQUENCE:3
DTSTAMP:20260420T204924Z
URL:https://www.hastingsmn.org/events/details/saint-croix-valley-apple-fest-10-08-2011-113321
END:VEVENT

END:VCALENDAR
