BEGIN:VCALENDAR
VERSION:2.0
PRODID:-//ChamberMaster//Event Calendar 2.0//EN
METHOD:PUBLISH
X-PUBLISHED-TTL:P3D
REFRESH-INTERVAL:P3D
CALSCALE:GREGORIAN
BEGIN:VEVENT
DTSTART;VALUE=DATE:20111001
DTEND;VALUE=DATE:20111003
TRANSP:TRANSPARENT
X-MICROSOFT-CDO-ALLDAYEVENT:TRUE
SUMMARY:Saint Croix Valley Apple Fest
DESCRIPTION:Area apple orchards celebrate the apple harvest along the bluffs of the St. Croix River. Enjoy apple picking\, hayrides through the pumpkin patch\, games\, face painting\, cider apple pressing demonstrations\, corn mazes\, farm animals\, children's play area\, chain carving demonstrations\, musical entertainment and an outdoor market. For more information call (651) 651-436-8385 or 651-437-7126 or visit www.aftonapple.com and www.fischerscroixfarmorchard.com
X-ALT-DESC;FMTTYPE=text/html:<div>\n	Area apple orchards celebrate the apple harvest along the bluffs of the St. Croix River. Enjoy apple picking\, hayrides through the pumpkin patch\, games\, face painting\, cider apple pressing demonstrations\, corn mazes\, farm animals\, children&#39\;s play area\, chain carving demonstrations\, musical entertainment and an outdoor market. For more information call (651) 651-436-8385 or 651-437-7126 or visit <a href="http://www.aftonapple.com">www.aftonapple.com</a> and <a href="http://www.fischerscroixfarmorchard.com/" target="_blank">www.fischerscroixfarmorchard.com</a></div>\n
LOCATION:Area orchards in the St. Croix Valley.
UID:e.606.113320
SEQUENCE:3
DTSTAMP:20260420T192049Z
URL:https://www.hastingsmn.org/events/details/saint-croix-valley-apple-fest-10-01-2011-113320
END:VEVENT

END:VCALENDAR
