BEGIN:VCALENDAR
VERSION:2.0
PRODID:-//ChamberMaster//Event Calendar 2.0//EN
METHOD:PUBLISH
X-PUBLISHED-TTL:P3D
REFRESH-INTERVAL:P3D
CALSCALE:GREGORIAN
BEGIN:VEVENT
DTSTART:20260508T233000Z
DTEND:20260509T010000Z
X-MICROSOFT-CDO-ALLDAYEVENT:FALSE
SUMMARY:Romantic Melodies by Twin City Todd
DESCRIPTION:Join us for our third annual event featuring a performance with Todd Anderson Entertainment! "Step into a world where the golden tones of Iconic Crooners are given a fresh\, captivating reinterpretation. Twin City Todd breathes new life into The Great American Songbook's classic hits\, making them resonate with today's audiences. Todd's unique ability to blend the old with the new delivers an exhilarating auditory journey. Be transported by the smooth\, timeless romance that only a deeply heartfelt performance can offer." Hosted by Hastings Community Education. A portion of the proceeds will benefit Fun\, Friends and Fitness\, our adults with disabilities program.
X-ALT-DESC;FMTTYPE=text/html:Join us for our third annual event featuring a performance with Todd Anderson Entertainment! &quot\;Step into a world where the golden tones of Iconic Crooners are given a fresh\, captivating reinterpretation. Twin City Todd breathes new life into The Great American Songbook&#39\;s classic hits\, making them resonate with today&rsquo\;s audiences. Todd&#39\;s unique ability to blend the old with the new delivers an exhilarating auditory journey. Be transported by the smooth\, timeless romance that only a deeply heartfelt performance can offer.&quot\; Hosted by Hastings Community Education. A portion of the proceeds will benefit Fun\, Friends and Fitness\, our adults with disabilities program.
LOCATION:Hastings Middle School
UID:e.606.127622
SEQUENCE:3
DTSTAMP:20260423T022824Z
URL:https://www.hastingsmn.org/events/details/romantic-melodies-by-twin-city-todd-127622
END:VEVENT

END:VCALENDAR
