BEGIN:VCALENDAR
VERSION:2.0
PRODID:-//ChamberMaster//Event Calendar 2.0//EN
METHOD:PUBLISH
X-PUBLISHED-TTL:P3D
REFRESH-INTERVAL:P3D
CALSCALE:GREGORIAN
BEGIN:VEVENT
DTSTART:20100328T013000Z
DTEND:20100328T033000Z
X-MICROSOFT-CDO-ALLDAYEVENT:FALSE
SUMMARY:Rivertown Lions Easter Breakfast
DESCRIPTION:Menu: scrambled egg bake\, French toast sticks\, sausage\, orange juice\, milk and coffee. Activities will include visits with the Easter Bunny\, children's games and drawing for baskets.  Adult raffle drawing wil also be held.
X-ALT-DESC;FMTTYPE=text/html:<div>Menu: scrambled egg bake\, French toast sticks\, sausage\, orange juice\, milk and coffee.</div><div>&nbsp\;</div><div>Activities will include visits with the Easter Bunny\, children&rsquo\;s games and drawing for baskets.&nbsp\; Adult raffle drawing wil also be held.</div>
LOCATION:Christa McAuliffe Elementary School\, 1601 12th St. W. Hastings\, MN
UID:e.606.111538
SEQUENCE:3
DTSTAMP:20260425T194917Z
URL:https://www.hastingsmn.org/events/details/rivertown-lions-easter-breakfast-03-27-2010-111538
END:VEVENT

END:VCALENDAR
