BEGIN:VCALENDAR
VERSION:2.0
PRODID:-//ChamberMaster//Event Calendar 2.0//EN
METHOD:PUBLISH
X-PUBLISHED-TTL:P3D
REFRESH-INTERVAL:P3D
CALSCALE:GREGORIAN
BEGIN:VEVENT
DTSTART:20130323T130000Z
DTEND:20130324T033000Z
X-MICROSOFT-CDO-ALLDAYEVENT:FALSE
SUMMARY:Rivertown Lions Club of Hstings Breakfast with the Easter Bunny
DESCRIPTION:
X-ALT-DESC;FMTTYPE=text/html:
LOCATION:McAuliffe Elementary School
UID:e.606.113770
SEQUENCE:3
DTSTAMP:20260419T151032Z
URL:https://www.hastingsmn.org/events/details/rivertown-lions-club-of-hstings-breakfast-with-the-easter-bunny-03-23-2013-113770
END:VEVENT

END:VCALENDAR
