BEGIN:VCALENDAR
VERSION:2.0
PRODID:-//ChamberMaster//Event Calendar 2.0//EN
METHOD:PUBLISH
X-PUBLISHED-TTL:P3D
REFRESH-INTERVAL:P3D
CALSCALE:GREGORIAN
BEGIN:VEVENT
DTSTART;VALUE=DATE:20110506
DTEND;VALUE=DATE:20110508
TRANSP:TRANSPARENT
X-MICROSOFT-CDO-ALLDAYEVENT:TRUE
SUMMARY:Rivertown Lions Club of Hastings Citywide Garage Sales
DESCRIPTION:Annual citywide garage sales
X-ALT-DESC;FMTTYPE=text/html:Annual citywide garage sales 
LOCATION:City of Hastings
UID:e.606.112272
SEQUENCE:3
DTSTAMP:20260421T062648Z
URL:https://www.hastingsmn.org/events/details/rivertown-lions-club-of-hastings-citywide-garage-sales-05-06-2011-112272
END:VEVENT

END:VCALENDAR
