BEGIN:VCALENDAR
VERSION:2.0
PRODID:-//ChamberMaster//Event Calendar 2.0//EN
METHOD:PUBLISH
X-PUBLISHED-TTL:P3D
REFRESH-INTERVAL:P3D
CALSCALE:GREGORIAN
BEGIN:VEVENT
DTSTART:20120331T130000Z
DTEND:20120331T153000Z
X-MICROSOFT-CDO-ALLDAYEVENT:FALSE
SUMMARY:Rivertown Lions Club of Hastings Bunny Breakfast
DESCRIPTION:
X-ALT-DESC;FMTTYPE=text/html:
LOCATION:McAuliffe Elementary School
UID:e.606.113402
SEQUENCE:3
DTSTAMP:20260422T103604Z
URL:https://www.hastingsmn.org/events/details/rivertown-lions-club-of-hastings-bunny-breakfast-03-31-2012-113402
END:VEVENT

END:VCALENDAR
