BEGIN:VCALENDAR
VERSION:2.0
PRODID:-//ChamberMaster//Event Calendar 2.0//EN
METHOD:PUBLISH
X-PUBLISHED-TTL:P3D
REFRESH-INTERVAL:P3D
CALSCALE:GREGORIAN
BEGIN:VEVENT
DTSTART;VALUE=DATE:20120720
DTEND;VALUE=DATE:20120723
TRANSP:TRANSPARENT
X-MICROSOFT-CDO-ALLDAYEVENT:TRUE
SUMMARY:Rivertown Days
DESCRIPTION:Local festival coordinated by the Hastings Area Chamber of Commerce. Music fest\, games\, grand parade\,  sidewalk sales\, carnival\, arts and crafts fair\, tournaments\, fireworks display and so much more.
X-ALT-DESC;FMTTYPE=text/html:<div>\n	<span style="font-family: arial\; font-size: 9pt\; mso-fareast-font-family: 'times new roman'\; mso-ansi-language: en-us\; mso-fareast-language: en-us\; mso-bidi-language: ar-sa">Local&nbsp\;festival coordinated by the Hastings Area Chamber of Commerce. Music fest\, games\, grand parade\,&nbsp\; sidewalk sales\,&nbsp\;carnival\, arts and crafts fair\, tournaments\, fireworks display and so much more.</span></div>\n
LOCATION:City-wide festival
UID:e.606.113342
SEQUENCE:3
DTSTAMP:20260420T031557Z
URL:https://www.hastingsmn.org/events/details/rivertown-days-07-20-2012-113342
END:VEVENT

END:VCALENDAR
