BEGIN:VCALENDAR
VERSION:2.0
PRODID:-//ChamberMaster//Event Calendar 2.0//EN
METHOD:PUBLISH
X-PUBLISHED-TTL:P3D
REFRESH-INTERVAL:P3D
CALSCALE:GREGORIAN
BEGIN:VEVENT
DTSTART;VALUE=DATE:20110715
DTEND;VALUE=DATE:20110718
TRANSP:TRANSPARENT
X-MICROSOFT-CDO-ALLDAYEVENT:TRUE
SUMMARY:Rivertown Days
DESCRIPTION:Local festival coordinated by the Hastings Area Chamber of Commerce. Music fest\, games\, grand parade\, water ski shows\, police canine demonstrations\, sidewalk sales\, carnival\, arts and crafts fair\, flea market\, tournaments\, fireworks display and so much more.
X-ALT-DESC;FMTTYPE=text/html:<div><span style="font-family: Arial\; font-size: 9pt\; mso-fareast-font-family: 'Times New Roman'\; mso-ansi-language: EN-US\; mso-fareast-language: EN-US\; mso-bidi-language: AR-SA">Local&nbsp\;festival coordinated by the Hastings Area Chamber of Commerce. Music fest\, games\, grand parade\, water ski shows\, police canine demonstrations\, sidewalk sales\,&nbsp\;carnival\, arts and crafts fair\, flea market\, tournaments\, fireworks display and so much more.</span></div>
LOCATION:City-wide festival
UID:e.606.112027
SEQUENCE:3
DTSTAMP:20260421T003606Z
URL:https://www.hastingsmn.org/events/details/rivertown-days-07-15-2011-112027
END:VEVENT

END:VCALENDAR
