BEGIN:VCALENDAR
VERSION:2.0
PRODID:-//ChamberMaster//Event Calendar 2.0//EN
METHOD:PUBLISH
X-PUBLISHED-TTL:P3D
REFRESH-INTERVAL:P3D
CALSCALE:GREGORIAN
BEGIN:VEVENT
DTSTART:20101019T210000Z
DTEND:20101020T010000Z
X-MICROSOFT-CDO-ALLDAYEVENT:FALSE
SUMMARY:Rio Gran Halloween indoor trick or treating and haunted house
DESCRIPTION:4th annual indoor trick or treating\, haunted house\, and rescues and runways with Maurices. Free admittance. Wear your costumes!! Trick or treating for the kids. All indoors!! Come and have a great time with the Rio Gran Staff and volunteers!!
X-ALT-DESC;FMTTYPE=text/html:4th annual indoor trick or treating\, haunted house\, and rescues and runways with Maurices. Free admittance. Wear your costumes!! Trick or treating for the kids. All indoors!! Come and have a great time with the Rio Gran Staff and volunteers!!
LOCATION:16440 Fischer Ave Hastings\, MN 55033 Rio Gran Dog & Cat Boarding & Grooming
UID:e.606.111973
SEQUENCE:3
DTSTAMP:20260425T111656Z
URL:https://www.hastingsmn.org/events/details/rio-gran-halloween-indoor-trick-or-treating-and-haunted-house-10-19-2010-111973
END:VEVENT

END:VCALENDAR
