BEGIN:VCALENDAR
VERSION:2.0
PRODID:-//ChamberMaster//Event Calendar 2.0//EN
METHOD:PUBLISH
X-PUBLISHED-TTL:P3D
REFRESH-INTERVAL:P3D
CALSCALE:GREGORIAN
BEGIN:VEVENT
DTSTART:20091028T210000Z
DTEND:20091029T010000Z
X-MICROSOFT-CDO-ALLDAYEVENT:FALSE
SUMMARY:Rio Gran 3rd Annual Trick or Treat Event
DESCRIPTION:This hauntingly fun & safe indoor adventure will be held October 28th. Bring all your ghosts & goblins (2 legged). Cake   Haunted House   Trick or Treating   Kid Safety by Hastings Police Officer   Hastings Fire Truck  Maurices will also be hosting a Rescues and Runways Fashion Show from 5 - 6 p.m.Also\, accepting pet food and supplies to be donated to Hastings Animal Ark.
X-ALT-DESC;FMTTYPE=text/html:<div><div style="margin: 0in 0in 0pt"><span style="font-size: 7.5pt">This hauntingly fun &amp\; safe indoor adventure will be held October 28th. Bring all your ghosts &amp\; goblins (2 legged). Cake &bull\; Haunted House &bull\; Trick or Treating &bull\; Kid Safety by Hastings Police Officer&nbsp\;&bull\;&nbsp\;Hastings Fire Truck&nbsp\;</span></div><div style="margin: 0in 0in 0pt">&nbsp\;</div><div style="margin: 0in 0in 0pt"><span style="font-size: 7.5pt">Maurices will also be hosting a Rescues and Runways Fashion&nbsp\;Show from 5&nbsp\;- 6&nbsp\;p.m.</span></div><div style="margin: 0in 0in 0pt"><span style="font-size: 7.5pt">Also\, accepting&nbsp\;pet food and supplies to be donated to Hastings Animal Ark.</span>&nbsp\;</div></div>
LOCATION:16440 Fischer Ave. Hastings\, MN From Hastings\, take Co. Rd. 46 W to Fishcer Ave. take a left (south) onto Fischer Ave.
UID:e.606.111222
SEQUENCE:3
DTSTAMP:20260426T025710Z
URL:https://www.hastingsmn.org/events/details/rio-gran-3rd-annual-trick-or-treat-event-10-28-2009-111222
END:VEVENT

END:VCALENDAR
