BEGIN:VCALENDAR
VERSION:2.0
PRODID:-//ChamberMaster//Event Calendar 2.0//EN
METHOD:PUBLISH
X-PUBLISHED-TTL:P3D
REFRESH-INTERVAL:P3D
CALSCALE:GREGORIAN
BEGIN:VEVENT
DTSTART:20121124T200000Z
DTEND:20121124T220000Z
X-MICROSOFT-CDO-ALLDAYEVENT:FALSE
SUMMARY:Remembering Hazel Jacobsen-Theel
DESCRIPTION:Friends of Hazel Jacobsen-Theel are invited to attend a celebration of her life at the LeDuc Historic Estate on Saturday\, November 24\, 2-4 p.m.  Hazel\, long time local historian & Hastings promoter\, passed away on October 29 at the age of 103.  Come to say "Thank You" to her family for sharing their mother and write in a book of memories of Hazel.  Refreshments will be served.
X-ALT-DESC;FMTTYPE=text/html:Friends of Hazel Jacobsen-Theel are invited to attend a celebration of her life at the LeDuc Historic Estate on Saturday\, November 24\, 2-4 p.m. &nbsp\;Hazel\, long time local historian &amp\; Hastings promoter\, passed away on October 29 at the age of 103. &nbsp\;Come to say &quot\;Thank You&quot\; to her family for sharing their mother and write in a book of memories of Hazel. &nbsp\;Refreshments will be served.
LOCATION:LeDuc Historic Estate - 1629 Vermillion street\, Hastings MN 55033
UID:e.606.113742
SEQUENCE:3
DTSTAMP:20260419T200516Z
URL:https://www.hastingsmn.org/events/details/remembering-hazel-jacobsen-theel-11-24-2012-113742
END:VEVENT

END:VCALENDAR
