BEGIN:VCALENDAR
VERSION:2.0
PRODID:-//ChamberMaster//Event Calendar 2.0//EN
METHOD:PUBLISH
X-PUBLISHED-TTL:P3D
REFRESH-INTERVAL:P3D
CALSCALE:GREGORIAN
BEGIN:VEVENT
DTSTART:20130520T130000Z
DTEND:20130524T200000Z
X-MICROSOFT-CDO-ALLDAYEVENT:FALSE
SUMMARY:Recipes for Regina - Submit your recipes for a cookbook to celebrate 60 years
DESCRIPTION:Dear Friends of Regina:\n\n	 \n\n	As part of Regina's 60th anniversary this year\, we are excited to announce that we will be publishing a cookbook containing over 600 recipes from our staff\, Volunteers\, Auxiliary\, Boards and the community.  \n\n	 \n\n	You are invited to share your favorite recipes to be enjoyed by generations to come printed with your name in a professionally published 3 ring\, color binder!  \n\n	 \n\n	Another special opportunity!  Do you have a family heritage recipe? Tell us about your family tradition or honor a special person connected with the recipe and we will print it in the book.\n\n	\n\n	It's "Time to Operate in the Kitchen"  with Regina!\n\n	 \n\n	Recipes may be submitted via the Regina website using the easy online submission form or complete one of the forms located at the Regina campus.\n\n	 \n\n	Go to www.reginamedical.org and click on the Regina Cookbook icon in the upper right corner to find out more!\n\n	 \n\n	Share this opportunity with your family and friends!\n\n	 \n\n	Recipe submission deadline:  May 24\, 2013
X-ALT-DESC;FMTTYPE=text/html:<div style="color: gray">\n	<span style="font-size: 14pt"><span style="color: #17365d"><span style="font-family: script mt bold">Dear </span></span></span><span style="font-size: 14pt"><span style="color: #1f497d"><span style="font-family: script mt bold">Friends of Regina:</span></span></span><br />\n	&nbsp\;<br />\n	<span style="font-size: 14pt"><span style="color: #17365d"><span style="font-family: script mt bold">As part of Regina&rsquo\;s 60<sup>th</sup> anniversary this year\, we are excited to announce that we will be publishing a cookbook containing over 600 recipes from our staff\, Volunteers\, Auxiliary\, Boards and the community.&nbsp\; </span></span></span><br />\n	&nbsp\;<br />\n	<span style="font-size: 14pt"><span style="color: #17365d"><span style="font-family: script mt bold">You are invited to share your favorite recipes to be enjoyed by generations to come printed with your name in a professionally published 3 ring\, color binder!&nbsp\; </span></span></span><br />\n	&nbsp\;<br />\n	<span style="font-size: 14pt"><span style="color: #17365d"><span style="font-family: script mt bold">Another special opportunity!&nbsp\; Do you have a family heritage recipe? Tell us about your family tradition or honor a special person connected with the recipe and we will print it in the book.</span></span></span><br />\n	<br />\n	<span style="font-size: 14pt"><span style="color: #17365d"><span style="font-family: script mt bold">It&rsquo\;s </span></span></span><u><span style="font-size: 14pt"><span style="color: black"><span style="font-family: script mt bold">&ldquo\;Time to Operate in the Kitchen&rdquo\;&nbsp\;</span></span></span></u><span style="font-size: 14pt"><span style="color: black"><span style="font-family: script mt bold"> </span></span></span><span style="font-size: 14pt"><span style="color: #17365d"><span style="font-family: script mt bold">with Regina!</span></span></span><br />\n	&nbsp\;<br />\n	<span style="color: black"><span style="font-family: arial\, sans-serif">Recipes may be submitted via the Regina website using the easy </span></span><span style="color: black"><span style="font-family: arial\, sans-serif"><strong><u>online submission form</u></strong> or complete one of the forms </span></span><span style="color: #000000"><span style="font-family: arial\, sans-serif">located at the Regina campus.</span></span><br />\n	&nbsp\;<br />\n	<span style="color: black"><span style="font-family: arial\, sans-serif">Go to </span></span><strong><span style="color: #17365d"><span style="font-family: arial\, sans-serif"><a href="http://www.reginamedical.ort/" title="blocked::http://www.reginamedical.ort/"><span title="blocked::http://www.reginamedical.ort/"><span style="color: #17365d">www.reginamedical.or</span></span></a>g</span></span></strong> <span style="font-family: arial\, sans-serif"><span style="color: #000000">and click on the Regina Cookbook icon in the upper right corner to find </span><span style="color: black">out more!</span></span><br />\n	&nbsp\;<br />\n	<strong><em><span style="color: black"><span style="font-family: script mt bold">S</span></span></em></strong><span style="color: black"><span style="font-family: script mt bold">hare this opportunity with your family and friends!</span></span><br />\n	&nbsp\;<br />\n	<span style="color: black"><span style="font-family: arial\, sans-serif">Recipe submission deadline:&nbsp\; May 24\, 2013</span></span></div>\n
LOCATION:Go to www.reginamedical.org and click on the Regina Cookbook icon in the upper right corner to find out more!
UID:e.606.113837
SEQUENCE:3
DTSTAMP:20260421T082921Z
URL:https://www.hastingsmn.org/events/details/recipes-for-regina-submit-your-recipes-for-a-cookbook-to-celebrate-60-years-05-20-2013-113837
END:VEVENT

END:VCALENDAR
