BEGIN:VCALENDAR
VERSION:2.0
PRODID:-//ChamberMaster//Event Calendar 2.0//EN
METHOD:PUBLISH
X-PUBLISHED-TTL:P3D
REFRESH-INTERVAL:P3D
CALSCALE:GREGORIAN
BEGIN:VEVENT
DTSTART:20100925T150000Z
DTEND:20100925T200000Z
X-MICROSOFT-CDO-ALLDAYEVENT:FALSE
SUMMARY:Raptor Release
DESCRIPTION:Carpenter Nature Center is the host for the fall raptor release which is presented by the 3M Foundation in partnership with The Raptor Center at the University of Minnesota and Carpenter Nature Center. Visitors will enjoy watching 4-6 wild birds of prey take to the air after being rehabilitated by The Raptor Center's veterinarians. The day is full of fun including orchard hay wagon tours\, educational raptors on display from The Raptor Center\, kids activities and more. Bring your blanket or lawn chair and enjoy the day Raptor releases will be at 11:30 a.m. and 2 p.m.
X-ALT-DESC;FMTTYPE=text/html:<div>Carpenter Nature Center is the host for the fall raptor release which is presented by the 3M Foundation in partnership with The Raptor Center at the University of Minnesota and Carpenter Nature Center. Visitors will enjoy watching 4-6 wild birds of prey take to the air after being rehabilitated by The Raptor Center&rsquo\;s veterinarians. The day is full of fun including orchard hay wagon tours\, educational raptors on display from The Raptor Center\, kids activities and more. Bring your blanket or lawn chair and enjoy the day</div><div>&nbsp\;</div><div>Raptor releases will be at 11:30 a.m. and 2 p.m.</div>
LOCATION:Carpenter Nature Center12805 St. Croix TrHastings MN
UID:e.606.111964
SEQUENCE:3
DTSTAMP:20260425T123601Z
URL:https://www.hastingsmn.org/events/details/raptor-release-09-25-2010-111964
END:VEVENT

END:VCALENDAR
