BEGIN:VCALENDAR
VERSION:2.0
PRODID:-//ChamberMaster//Event Calendar 2.0//EN
METHOD:PUBLISH
X-PUBLISHED-TTL:P3D
REFRESH-INTERVAL:P3D
CALSCALE:GREGORIAN
BEGIN:VEVENT
DTSTART:20110815T153000Z
DTEND:20110816T000000Z
X-MICROSOFT-CDO-ALLDAYEVENT:FALSE
SUMMARY:ProAct Golf Classic
DESCRIPTION:The ProAct Golf Classic fundraiser returns to the Hastings Country Club on Monday\, August 15.  The 18-hole event begins with registration from 10 to 11:30 a.m.\, with an early lunch starting at 10:45 a.m. and a shotgun start at 11:45 a.m.  Live and silent auctions\, a raffle and a gourmet dinner will follow the game.  The cost is $150 per golfer\, which includes lunch and dinner\, a golf cart and use of the facilities and driving range.  The price for the dinner only is $35.  To register\, go to proactinc.org or contact Cathy McCoy at 651-289-3170 or cmccoy@proactinc.org.\n\n	 \n\n	ProAct is a 501 (c) 3 nonprofit corporation which has served the needs of people with disabilities and other challenges for 40 years.  With facilities in Eagan\, Red Wing\, Zumbrota and Hudson\, Wis.\, ProAct serves people from the Twin Cities\, southern Minnesota and western Wisconsin.
X-ALT-DESC;FMTTYPE=text/html:<p class="MsoPlainText" style="margin: 0in 0in 0pt">\n	<font color="#000000">The ProAct Golf Classic fundraiser returns to the Hastings Country Club on Monday\, August 15.<span style="mso-spacerun: yes">&nbsp\; </span>The 18-hole event begins with registration from 10 to 11:30 a.m.\, with an early lunch starting at 10:45 a.m. and a shotgun start at 11:45 a.m.<span style="mso-spacerun: yes">&nbsp\; </span>Live and silent auctions\, a raffle and a gourmet dinner will follow the game.<span style="mso-spacerun: yes">&nbsp\; </span>The cost is $150 per golfer\, which includes lunch and dinner\, a golf cart and use of the facilities and driving range.<span style="mso-spacerun: yes">&nbsp\; </span>The price for the dinner only is $35.<span style="mso-spacerun: yes">&nbsp\; </span>To register\, go to </font><a href="http://business.hastingsmn.org/directory/jsp/dialogs/proactinc.org"><font color="#0000ff">proactinc.org</font></a><font color="#000000"> or contact Cathy McCoy at 651-289-3170 or </font><a href="http://business.hastingsmn.org/directory/jsp/dialogs/cmccoy@proactinc.org"><font color="#0000ff">cmccoy@proactinc.org</font></a><font color="#000000">.</font></p>\n<p class="MsoPlainText" style="margin: 0in 0in 0pt">\n	<font color="#000000">&nbsp\;</font></p>\n<p class="MsoPlainText" style="margin: 0in 0in 0pt">\n	<font color="#000000">ProAct is a 501 (c) 3 nonprofit corporation which has served the needs of people with disabilities and other challenges for 40 years.<span style="mso-spacerun: yes">&nbsp\; </span>With facilities in Eagan\, Red Wing\, Zumbrota and Hudson\, Wis.\, ProAct serves people from the Twin Cities\, southern Minnesota and western Wisconsin.</font></p>\n
LOCATION:Hastings Country Club
UID:e.606.113291
SEQUENCE:3
DTSTAMP:20260420T224519Z
URL:https://www.hastingsmn.org/events/details/proact-golf-classic-08-15-2011-113291
END:VEVENT

END:VCALENDAR
