BEGIN:VCALENDAR
VERSION:2.0
PRODID:-//ChamberMaster//Event Calendar 2.0//EN
METHOD:PUBLISH
X-PUBLISHED-TTL:P3D
REFRESH-INTERVAL:P3D
CALSCALE:GREGORIAN
BEGIN:VEVENT
DTSTART:20100816T150000Z
DTEND:20100816T150000Z
X-MICROSOFT-CDO-ALLDAYEVENT:FALSE
SUMMARY:ProAct Annual Golf Classic
DESCRIPTION:Golf Fundraiser for ProAct.  Lunch\, 4 Person Scramble\, Contest on Course\, Refreshments/Prizes\, Dinner\, Silent Auction
X-ALT-DESC;FMTTYPE=text/html:<div>Golf Fundraiser for ProAct.&nbsp\; Lunch\, 4 Person Scramble\, Contest on Course\, Refreshments/Prizes\, Dinner\, Silent Auction</div>
LOCATION:Hastings Country Club2015 Westview DrHastings\, MN 55033
UID:e.606.111813
SEQUENCE:3
DTSTAMP:20260425T124238Z
URL:https://www.hastingsmn.org/events/details/proact-annual-golf-classic-08-16-2010-111813
END:VEVENT

END:VCALENDAR
