BEGIN:VCALENDAR
VERSION:2.0
PRODID:-//ChamberMaster//Event Calendar 2.0//EN
METHOD:PUBLISH
X-PUBLISHED-TTL:P3D
REFRESH-INTERVAL:P3D
CALSCALE:GREGORIAN
BEGIN:VEVENT
DTSTART:20120512T170000Z
DTEND:20120512T190000Z
X-MICROSOFT-CDO-ALLDAYEVENT:FALSE
SUMMARY:Pre Mother's Day Lunch Cruise
DESCRIPTION:Start pampering your Mother early by taking her on this relaxing two-hour lunch cruise.  You will enjoy a buffet lunch of: Assorted Pasta Salads\, Caesar Salad\, Buttered Parsley Potatoes\, Vegetable Medley\, Chicken Chardonnay & Tortilla Crusted Tilapia\, Rolls & Butter\, Chef's Choice Dessert. Cash bar will be open for additional beverages.  Boarding in Hudson\, Wisconsin.
X-ALT-DESC;FMTTYPE=text/html:<span style="font-size: 11px"><span style="font-family: verdana"><span style="mso-fareast-font-family: 'times new roman'\; mso-ansi-language: en-us\; mso-fareast-language: en-us\; mso-bidi-language: ar-sa"><font color="#000000">Start pampering your Mother early by taking her on this relaxing two-hour lunch cruise.<span style="mso-spacerun: yes">&nbsp\; </span>You will enjoy a buffet lunch of: Assorted&nbsp\;Pasta Salads\, Caesar Salad\, Buttered Parsley Potatoes\, Vegetable Medley\, Chicken Chardonnay &amp\;&nbsp\;Tortilla Crusted Tilapia\, Rolls &amp\; Butter\, Chef&#39\;s Choice Dessert. Cash bar will be open for additional beverages.<span style="mso-spacerun: yes">&nbsp\; </span>Boarding in Hudson\, Wisconsin.</font></span></span></span>
LOCATION:98 Walnut Street\, Hudson WI 54016
UID:e.606.113665
SEQUENCE:3
DTSTAMP:20260420T065332Z
URL:https://www.hastingsmn.org/events/details/pre-mother-s-day-lunch-cruise-05-12-2012-113665
END:VEVENT

END:VCALENDAR
