BEGIN:VCALENDAR
VERSION:2.0
PRODID:-//ChamberMaster//Event Calendar 2.0//EN
METHOD:PUBLISH
X-PUBLISHED-TTL:P3D
REFRESH-INTERVAL:P3D
CALSCALE:GREGORIAN
BEGIN:VEVENT
DTSTART:20100508T163000Z
DTEND:20100508T190000Z
X-MICROSOFT-CDO-ALLDAYEVENT:FALSE
SUMMARY:Pre Mother's Day Lunch Cruise
DESCRIPTION:Departing 12-2pm\n\nfrom the Afton City Docks - Afton\, MN \n\n\n\nEnjoy a beautiful day on the St. Croix River.  \n\nBoarding at 11:30am.  Cruise from 12:00pm - 2:00pm\n\nAdults $24.95 ~ Child 10 & under $16.95 ~ Tots 2 & under $6.95 - Plus Tax \n\nCash Bar Available for soft drinks\, cocktails and juice.\n\nAdvance ticket purchase required.  Tickets are non-refundable\n\n\n\n\n\n\n\nMenu\n\nAssorted Composed Pasta Salads\n\nMediterranean  Salad\n\nButtered Parsley Poatoes\n\nVegetable Medley\n\nChicken Chardonnay\n\nHerb Crusted Talpia\n\nRolls & Butter\n\nChef's Choice Dessert \n\n\n\n\n\n\n\nCash Bar available for soft drinks and cocktails \n\n\n\n\n\nCall 651-436-8883
X-ALT-DESC;FMTTYPE=text/html:Departing 12-2pm\n<br>from the Afton City Docks - Afton\, MN \n<br>\n<br>Enjoy a beautiful day on the St. Croix River.  \n<br>Boarding at 11:30am.  Cruise from 12:00pm - 2:00pm\n<br>Adults $24.95 ~ Child 10 &amp\; under $16.95 ~ Tots 2 &amp\; under $6.95 - Plus Tax \n<br>Cash Bar Available for soft drinks\, cocktails and juice.\n<br>Advance ticket purchase required.  Tickets are non-refundable\n<br>\n<br>\n<br>\n<br>Menu\n<br>Assorted Composed Pasta Salads\n<br>Mediterranean  Salad\n<br>Buttered Parsley Poatoes\n<br>Vegetable Medley\n<br>Chicken Chardonnay\n<br>Herb Crusted Talpia\n<br>Rolls &amp\; Butter\n<br>Chef's Choice Dessert \n<br>\n<br>\n<br>\n<br>Cash Bar available for soft drinks and cocktails \n<br>\n<br>\n<br>Call 651-436-8883\n<br>\n<br>
LOCATION:Afton House Inn Hudson\, Wi
UID:e.606.111549
SEQUENCE:3
DTSTAMP:20260425T170532Z
URL:https://www.hastingsmn.org/events/details/pre-mother-s-day-lunch-cruise-05-08-2010-111549
END:VEVENT

END:VCALENDAR
