BEGIN:VCALENDAR
VERSION:2.0
PRODID:-//ChamberMaster//Event Calendar 2.0//EN
METHOD:PUBLISH
X-PUBLISHED-TTL:P3D
REFRESH-INTERVAL:P3D
CALSCALE:GREGORIAN
BEGIN:VEVENT
DTSTART:20100922T220000Z
DTEND:20100923T003000Z
X-MICROSOFT-CDO-ALLDAYEVENT:FALSE
SUMMARY:Power Within Chiropractic Grand Re-Opening
DESCRIPTION:Bring your family and enjoy ice cream\, prizes\, scans and more.
X-ALT-DESC;FMTTYPE=text/html:Bring your family and enjoy ice cream\, prizes\, scans and more.  
LOCATION:Westview Center Suite 106
UID:e.606.111978
SEQUENCE:3
DTSTAMP:20260425T111529Z
URL:https://www.hastingsmn.org/events/details/power-within-chiropractic-grand-re-opening-09-22-2010-111978
END:VEVENT

END:VCALENDAR
