BEGIN:VCALENDAR
VERSION:2.0
PRODID:-//ChamberMaster//Event Calendar 2.0//EN
METHOD:PUBLISH
X-PUBLISHED-TTL:P3D
REFRESH-INTERVAL:P3D
CALSCALE:GREGORIAN
BEGIN:VEVENT
DTSTART;VALUE=DATE:20110305
DTEND;VALUE=DATE:20110307
TRANSP:TRANSPARENT
X-MICROSOFT-CDO-ALLDAYEVENT:TRUE
SUMMARY:Owls & Other Masters of the Sky
DESCRIPTION:Come and learn about the fascinating world of raptors. Meet the largest owl species in the\n\nworld and learn how owls hunt at night. Discover how falcons attain such astounding speeds\n\nwhile in pursuit of prey and feel the breeze created as a Harris Hawk glides over your head.\n\nYou will be amazed by the Barn Owl's silent flight demonstrations\, awed by the beauty of the\n\nAfrican Bateleur Eagle\, and fascinated by the natural history of these wonderful birds.Space is limited. Program sponsors include the Hastings Lions Club and 3M Cottage Grove
X-ALT-DESC;FMTTYPE=text/html:Come and learn about the fascinating world of raptors. Meet the largest owl species in the<br />\nworld and learn how owls hunt at night. Discover how falcons attain such astounding speeds<br />\nwhile in pursuit of prey and feel the breeze created as a Harris Hawk glides over your head.<br />\nYou will be amazed by the Barn Owl&#39\;s silent flight demonstrations\, awed by the beauty of the<br />\nAfrican Bateleur Eagle\, and fascinated by the natural history of these wonderful birds.Space is limited. Program sponsors include the Hastings Lions Club and 3M Cottage Grove
LOCATION:Carpenter St. Croix Valley Nature Center 12805 St. Croix Trail Hastings MN 55033
UID:e.606.112270
SEQUENCE:3
DTSTAMP:20260421T081021Z
URL:https://www.hastingsmn.org/events/details/owls-other-masters-of-the-sky-03-05-2011-112270
END:VEVENT

END:VCALENDAR
