BEGIN:VCALENDAR
VERSION:2.0
PRODID:-//ChamberMaster//Event Calendar 2.0//EN
METHOD:PUBLISH
X-PUBLISHED-TTL:P3D
REFRESH-INTERVAL:P3D
CALSCALE:GREGORIAN
BEGIN:VEVENT
DTSTART:20121110T200000Z
DTEND:20121111T000000Z
X-MICROSOFT-CDO-ALLDAYEVENT:FALSE
SUMMARY:Operation Christmas
DESCRIPTION:The event includes meat raffles\, a bake sale\, a silent auction\, $10 endless chili bowls and entertainment. All proceeds will be sent in the form of care packages filled with Christmas gifts and necessities to members of 1/11 Sierra Battery who will be spending their holidays spread out among four different bases throughout Helmand Province. Anyone in the community knowing of another deployed service member/unit that could be considered as a recipient should contact Taylor Haskell - Tzetwick2011@gmail.com.
X-ALT-DESC;FMTTYPE=text/html:<div style="color: gray">\n	<font size="2"><font face="Arial">The event&nbsp\;includes meat raffles\, a bake sale\, a silent auction\, $10 endless chili bowls and entertainment. All proceeds will be&nbsp\;sent in the form of care packages filled with Christmas&nbsp\;gifts and necessities to members of 1/11 Sierra Battery who will be spending their holidays spread out among four different bases throughout Helmand Province. Anyone in the community knowing of another deployed service member/unit that could be considered as a recipient should contact Taylor Haskell - Tzetwick2011@gmail.com.</font></font></div>\n
LOCATION:The Coliseum Sports Bar and Grill 1804 Vermillion St. Hastings\, MN
UID:e.606.113729
SEQUENCE:3
DTSTAMP:20260419T201323Z
URL:https://www.hastingsmn.org/events/details/operation-christmas-11-10-2012-113729
END:VEVENT

END:VCALENDAR
