BEGIN:VCALENDAR
VERSION:2.0
PRODID:-//ChamberMaster//Event Calendar 2.0//EN
METHOD:PUBLISH
X-PUBLISHED-TTL:P3D
REFRESH-INTERVAL:P3D
CALSCALE:GREGORIAN
BEGIN:VEVENT
DTSTART;VALUE=DATE:20100922
DTEND;VALUE=DATE:20100923
TRANSP:TRANSPARENT
X-MICROSOFT-CDO-ALLDAYEVENT:TRUE
SUMMARY:Open House on Hastings Bridge Project
DESCRIPTION:The public will be able to see visual representations of the new Highway 61 bridge and designs of the public art\, which will be included at an open house . \n\n\n\nProject leaders from Lunda/Ames will be present and the Minnesota Department of Transportation (Mn/DOT) will also have representatives to discuss the project.
X-ALT-DESC;FMTTYPE=text/html:The public will be able to see visual representations of the new Highway 61 bridge and designs of the public art\, which will be included at an open house<span _fck_bookmark="1" style="display: none">&nbsp\;</span>.&nbsp\;<br />\n<br />\nProject leaders from Lunda/Ames will be present and the Minnesota Department of Transportation (Mn/DOT) will also have representatives to discuss the project.<span _fck_bookmark="1" style="display: none">&nbsp\;</span>
LOCATION:Hastings City Hall 101 4th St E Hastings MN
UID:e.606.111972
SEQUENCE:3
DTSTAMP:20260425T111524Z
URL:https://www.hastingsmn.org/events/details/open-house-on-hastings-bridge-project-09-22-2010-111972
END:VEVENT

END:VCALENDAR
