BEGIN:VCALENDAR
VERSION:2.0
PRODID:-//ChamberMaster//Event Calendar 2.0//EN
METHOD:PUBLISH
X-PUBLISHED-TTL:P3D
REFRESH-INTERVAL:P3D
CALSCALE:GREGORIAN
BEGIN:VEVENT
DTSTART:20110331T203000Z
DTEND:20110331T230000Z
X-MICROSOFT-CDO-ALLDAYEVENT:FALSE
SUMMARY:Open House on Hastings Bridge Project
DESCRIPTION:See updated visual representations of the new Highway 61 bridge.  Get information on construction schedule and traffic.  Get your questions answered by project staff.\n\n\n\nProject leaders from Lunda/Ames will be present and the Minnesota Department of Transportation (Mn/DOT) will also have representatives to discuss the project.
X-ALT-DESC;FMTTYPE=text/html:See updated visual representations of the new Highway 61 bridge.&nbsp\; Get information on construction schedule and traffic.&nbsp\; Get your questions answered by project staff.<br />\n<br />\nProject leaders from Lunda/Ames will be present and the Minnesota Department of Transportation (Mn/DOT) will also have representatives to discuss the project.<span _fck_bookmark="1" style="display: none">&nbsp\;</span>
LOCATION:Hastings City Hall 101 4th St E Hastings MN
UID:e.606.112275
SEQUENCE:3
DTSTAMP:20260421T080723Z
URL:https://www.hastingsmn.org/events/details/open-house-on-hastings-bridge-project-03-31-2011-112275
END:VEVENT

END:VCALENDAR
