BEGIN:VCALENDAR
VERSION:2.0
PRODID:-//ChamberMaster//Event Calendar 2.0//EN
METHOD:PUBLISH
X-PUBLISHED-TTL:P3D
REFRESH-INTERVAL:P3D
CALSCALE:GREGORIAN
BEGIN:VEVENT
DTSTART:20111015T233000Z
DTEND:20111016T023000Z
X-MICROSOFT-CDO-ALLDAYEVENT:FALSE
SUMMARY:Oktoberfest Cruise
DESCRIPTION:Live music for dancing or to just listen to while enjoying a authentic German buffet while on this three hour cruise.  There will be beers from around the world. Don't worry if you're not a beer drinker there will be a cash bar on board for sodas or other adult beverages.
X-ALT-DESC;FMTTYPE=text/html:<p style="margin-bottom: 0pt">\n	<span style="font-family: 'times new roman'\; font-size: 10pt\; mso-bidi-font-size: 12.0pt\; mso-fareast-font-family: 'times new roman'"><font color="#000000">Live music for dancing or to&nbsp\;just listen to while enjoying a&nbsp\;authentic German buffet while on this three hour cruise.<span style="mso-spacerun: yes">&nbsp\; </span>There will be beers from around the world. Don&rsquo\;t worry if you&rsquo\;re not a beer drinker there will be a cash bar on board for sodas or other adult beverages.<span style="mso-spacerun: yes">&nbsp\; </span></font></span></p>\n
LOCATION:98 Walnut Street\, Hudson\, WI aboard the Grand Duchess Boat
UID:e.606.113301
SEQUENCE:3
DTSTAMP:20260420T192233Z
URL:https://www.hastingsmn.org/events/details/oktoberfest-cruise-10-15-2011-113301
END:VEVENT

END:VCALENDAR
