BEGIN:VCALENDAR
VERSION:2.0
PRODID:-//ChamberMaster//Event Calendar 2.0//EN
METHOD:PUBLISH
X-PUBLISHED-TTL:P3D
REFRESH-INTERVAL:P3D
CALSCALE:GREGORIAN
BEGIN:VEVENT
DTSTART:20110924T170000Z
DTEND:20110924T050000Z
X-MICROSOFT-CDO-ALLDAYEVENT:FALSE
SUMMARY:Oktoberfest 2011
DESCRIPTION:12 - 5 p.m.\n\n	Family Activities: Antique Road Show\, Tractor Pedal Pull\; Antique Tractors\; Hair Painting\;\n\n	The following brought to you by the Hastings Area YMCA: Bounce House\; Youth Fitness Assessments\; Kid's Hip Hop Dance Demo\; Gym Games\; Soccer and Football Skills Activities\; Floor Hockey and Backetball Sign Ups.\n\n	\n\n	Bean Bag Tournament $20 per team\; Check-in 1:30 p.m.\; Starts 2 p.m. 100% payout.  Sign up forms at The Busted Nut or call 651-438-6887.\n\n	\n\n	Sponsored by The Downtown Business Association\n\n	*Street Dance from 8 - 12 p.m. - Music by Uncle Chunk - $5 cover/Must be 21 & up to enter and have valid I.D.
X-ALT-DESC;FMTTYPE=text/html:<div>\n	<font face="Verdana" size="1">12 - 5 p.m.<br />\n	Family Activities: Antique Road Show\, Tractor Pedal Pull\; Antique Tractors\; Hair Painting\;<br />\n	The following brought to you by the Hastings Area YMCA: Bounce House\; Youth Fitness Assessments\; Kid&#39\;s Hip Hop Dance Demo\; Gym Games\; Soccer and Football Skills Activities\; Floor Hockey and Backetball Sign Ups.<br />\n	<br />\n	Bean Bag Tournament $20 per team\; Check-in 1:30 p.m.\; Starts 2 p.m. 100% payout.&nbsp\;&nbsp\;Sign up forms at The Busted Nut or call&nbsp\;651-438-6887.<br />\n	<br />\n	Sponsored by The Downtown Business Association</font></div>\n<div>\n	<font face="Verdana" size="1">*Street Dance&nbsp\;from 8 - 12 p.m. -&nbsp\;Music by Uncle Chunk - $5 cover/Must be 21 &amp\; up to enter and have valid I.D.</font></div>\n
LOCATION:2nd Street East\, Downtown Hastings
UID:e.606.113290
SEQUENCE:3
DTSTAMP:20260420T204735Z
URL:https://www.hastingsmn.org/events/details/oktoberfest-2011-09-24-2011-113290
END:VEVENT

END:VCALENDAR
