BEGIN:VCALENDAR
VERSION:2.0
PRODID:-//ChamberMaster//Event Calendar 2.0//EN
METHOD:PUBLISH
X-PUBLISHED-TTL:P3D
REFRESH-INTERVAL:P3D
CALSCALE:GREGORIAN
BEGIN:VEVENT
DTSTART;VALUE=DATE:20100925
DTEND;VALUE=DATE:20100926
TRANSP:TRANSPARENT
X-MICROSOFT-CDO-ALLDAYEVENT:TRUE
SUMMARY:Oktoberfest 2010
DESCRIPTION:Sponsored by the The Downtown Business Association*Keg Race * Peanut Push * *Frozen T-Shirt Contest *Street Dance from 7 - 11 p.m. - Music by Lost Highway
X-ALT-DESC;FMTTYPE=text/html:<div><font size="1" face="Verdana">Sponsored by the The Downtown Business Association</font></div><div><font size="1" face="Verdana">*Keg Race * Peanut Push * *Frozen T-Shirt Contest </font></div><div><font size="1" face="Verdana">*Street Dance&nbsp\;from 7 - 11 p.m. -&nbsp\;Music by Lost&nbsp\;Highway&nbsp\; </font></div><div><a target="_blank" href="http://www.thebustednut.com/"></a></div>
LOCATION:2nd Street East\, Downtown Hastings
UID:e.606.111960
SEQUENCE:3
DTSTAMP:20260425T111624Z
URL:https://www.hastingsmn.org/events/details/oktoberfest-2010-09-25-2010-111960
END:VEVENT

END:VCALENDAR
