BEGIN:VCALENDAR
VERSION:2.0
PRODID:-//ChamberMaster//Event Calendar 2.0//EN
METHOD:PUBLISH
X-PUBLISHED-TTL:P3D
REFRESH-INTERVAL:P3D
CALSCALE:GREGORIAN
BEGIN:VEVENT
DTSTART;VALUE=DATE:20090926
DTEND;VALUE=DATE:20090927
TRANSP:TRANSPARENT
X-MICROSOFT-CDO-ALLDAYEVENT:TRUE
SUMMARY:Oktoberfest
DESCRIPTION:118 2nd Street E. Downtown Hastings Sponsored by the Downtown Business Association NOON -11 p.m. *Chili Cookoff -12 Noon (Contact Tatia 438-6887) *Sidewalk Sales *Pumpkin Carving Contest 13 & under 12 - 3 p.m. Judge @ 4 *Pumpkin Painting Contest 13 & Under 12-3 pm Judge@ 4 *Hayrides 12 - 6 p.m. **DJ from 3 - 7 p.m. *Hot Dog Eating Contest 3 p.m. *Beer Garden *Frozen T-Shirt Contest 4 p.m. *HAMM'S Bear Appearance 3 - 4 p.m. & 7 - 8 p.m. Street Dance -@ 7 p.m. For more information visit www.thebustednut.com
X-ALT-DESC;FMTTYPE=text/html:<div><font size="1" face="Verdana">118 2nd Street E. Downtown Hastings Sponsored by the Downtown Business Association NOON -11 p.m. *Chili Cookoff -12 Noon (Contact Tatia 438-6887) *Sidewalk Sales *Pumpkin Carving Contest 13 &amp\; under 12 - 3 p.m. Judge @ 4 *Pumpkin Painting Contest 13 &amp\; Under 12-3 pm Judge@ 4 *Hayrides 12 - 6 p.m. **DJ from 3 - 7 p.m. *Hot Dog Eating Contest 3 p.m. *Beer Garden *Frozen T-Shirt Contest 4 p.m. *HAMM'S Bear Appearance 3 - 4 p.m. &amp\; 7 - 8 p.m. Street Dance -@ 7 p.m. For more information visit </font><a href="http://www.thebustednut.com/" target="_blank"><font size="1" face="Verdana">www.thebustednut.com</font></a></div>
LOCATION:2nd Street East\, Downtown Hastings
UID:e.606.110902
SEQUENCE:3
DTSTAMP:20260426T042146Z
URL:https://www.hastingsmn.org/events/details/oktoberfest-09-26-2009-110902
END:VEVENT

END:VCALENDAR
