BEGIN:VCALENDAR
VERSION:2.0
PRODID:-//ChamberMaster//Event Calendar 2.0//EN
METHOD:PUBLISH
X-PUBLISHED-TTL:P3D
REFRESH-INTERVAL:P3D
CALSCALE:GREGORIAN
BEGIN:VEVENT
DTSTART:20130517T010000Z
DTEND:20130517T030000Z
X-MICROSOFT-CDO-ALLDAYEVENT:FALSE
SUMMARY:NewBridge Theatre Company Presents The Turned Leaf
DESCRIPTION:NewBridge Theatre Company is offering a brand new\, original work and World Premier Drama\,\n\n	 \n\n	THE TURNED LEAF    \n\n	May 16-18 and 23-25th at 8pm\n\n	 \n\n	This show is not to be missed!!!!\n\n	*6 shows only*\n\n	 \n\n	Written by Elizabeth Tanner\, Artistic Director\n\n	Directed by Jonathan Goodman\, Executive Producer\n\n	Music arranged by David Horton\, Company Member\n\n	Choreography by Sarah Jabar\, Company Member\n\n	 \n\n	For tickets visit\n\n	www.newbridgetc.com\n\n	or call\n\n	651-295-3224
X-ALT-DESC;FMTTYPE=text/html:<div style="color: gray">\n	<span style="font-size: large"><span style="font-family: times new roman"><span style="color: red"><span style="font-size: 13.5pt"><span style="color: red">NewBridge Theatre Company is offering a brand new\, original work and World Premier Drama\,</span></span></span></span></span><br />\n	&nbsp\;<br />\n	<strong><span style="font-size: large"><span style="font-family: times new roman"><span style="color: #a64d79"><span style="font-weight: bold"><span style="font-size: 24pt"><span style="color: #a64d79">THE TURNED LEAF </span></span></span></span></span></span></strong>&nbsp\; &nbsp\;<br />\n	<span style="font-size: large"><span style="font-family: times new roman"><span style="color: red"><span style="font-size: 13.5pt"><span style="color: red">May 16-18 and 23-25th at 8pm</span></span></span></span></span><br />\n	&nbsp\;<br />\n	<span style="font-size: large"><span style="font-family: times new roman"><span style="color: red"><span style="font-size: 13.5pt"><span style="color: red">This show is not to be missed!!!!</span></span></span></span></span><br />\n	<span style="font-size: large"><span style="font-family: times new roman"><span style="color: #6aa84f"><span style="font-size: 13.5pt"><span style="color: #6aa84f">*6 shows only*</span></span></span></span></span><br />\n	&nbsp\;<br />\n	<span style="font-size: medium"><span style="font-family: georgia"><span style="color: fuchsia"><span style="font-size: 12pt"><span style="color: fuchsia"><span style="font-family: georgia">Written by Elizabeth Tanner\, <em><span style="font-style: italic">Artistic Director</span></em></span></span></span></span></span></span><br />\n	<span style="font-size: medium"><span style="font-family: georgia"><span style="color: fuchsia"><span style="font-size: 12pt"><span style="color: fuchsia"><span style="font-family: georgia">Directed by Jonathan Goodman\, <em><span style="font-style: italic">Executive Producer</span></em></span></span></span></span></span></span><br />\n	<span style="font-size: medium"><span style="font-family: georgia"><span style="color: fuchsia"><span style="font-size: 12pt"><span style="color: fuchsia"><span style="font-family: georgia">Music arranged by David Horton\, <em><span style="font-style: italic">Company Member</span></em></span></span></span></span></span></span><br />\n	<span style="font-size: medium"><span style="font-family: georgia"><span style="color: fuchsia"><span style="font-size: 12pt"><span style="color: fuchsia"><span style="font-family: georgia">Choreography by Sarah Jabar\, <em><span style="font-style: italic">Company Member</span></em></span></span></span></span></span></span><br />\n	&nbsp\;<br />\n	<span style="font-size: large"><span style="font-family: georgia"><span style="color: blue"><span style="font-size: 13.5pt"><span style="color: blue"><span style="font-family: georgia">For tickets visit</span></span></span></span></span></span><br />\n	<span style="font-size: large"><span style="font-family: georgia"><span style="color: blue"><span style="font-size: 13.5pt"><span style="color: blue"><span style="font-family: georgia"><a href="http://www.newbridgetc.com/" title="blocked::http://www.newbridgetc.com/">www.newbridgetc.com</a></span></span></span></span></span></span><br />\n	<span style="font-size: large"><span style="font-family: georgia"><span style="color: blue"><span style="font-size: 13.5pt"><span style="color: blue"><span style="font-family: georgia">or call</span></span></span></span></span></span><br />\n	<span style="font-size: large"><span style="font-family: georgia"><span style="color: blue"><span style="font-size: 13.5pt"><span style="color: blue"><span style="font-family: georgia">651-295-3224</span></span></span></span></span></span></div>\n
LOCATION:NewBridge Theatre Company 105 2nd St. E Hastings\, MN 55033 www.newbridgetc.com 651.295.3224
UID:e.606.113823
SEQUENCE:3
DTSTAMP:20260421T082633Z
URL:https://www.hastingsmn.org/events/details/newbridge-theatre-company-presents-the-turned-leaf-05-16-2013-113823
END:VEVENT

END:VCALENDAR
