BEGIN:VCALENDAR
VERSION:2.0
PRODID:-//ChamberMaster//Event Calendar 2.0//EN
METHOD:PUBLISH
X-PUBLISHED-TTL:P3D
REFRESH-INTERVAL:P3D
CALSCALE:GREGORIAN
BEGIN:VEVENT
DTSTART:20120921T010000Z
DTEND:20120924T030000Z
X-MICROSOFT-CDO-ALLDAYEVENT:FALSE
SUMMARY:NewBridge Theatre Company presents New York New York
DESCRIPTION:Broadway's finest and lesser known songs\, dances and scenes set in cabaret style seating.  You are sure to leave with a song in your heart and a skip in your step!  NewBridge Theatre Company in conjunction with ArtReach St. Croix's Arts Festival\, Take me to the River.  Not to be missed!!!  Great Fun for the whole family!  Senior and Student Discounts available.
X-ALT-DESC;FMTTYPE=text/html:Broadway&#39\;s finest and lesser known songs\, dances and scenes set in cabaret style seating. &nbsp\;You are sure to leave with a song in your heart and a skip in your step!&nbsp\;&nbsp\;NewBridge Theatre Company in conjunction with ArtReach St. Croix&#39\;s Arts Festival\, Take me to the River. &nbsp\;Not to be missed!!! &nbsp\;Great Fun for the whole family! &nbsp\;Senior and Student Discounts available. &nbsp\;
LOCATION:NewBridge Theatre Company 105 2nd St. E Hastings\, MN 55033
UID:e.606.113705
SEQUENCE:3
DTSTAMP:20260419T235327Z
URL:https://www.hastingsmn.org/events/details/newbridge-theatre-company-presents-new-york-new-york-09-20-2012-113705
END:VEVENT

END:VCALENDAR
