BEGIN:VCALENDAR
VERSION:2.0
PRODID:-//ChamberMaster//Event Calendar 2.0//EN
METHOD:PUBLISH
X-PUBLISHED-TTL:P3D
REFRESH-INTERVAL:P3D
CALSCALE:GREGORIAN
BEGIN:VEVENT
DTSTART:20120908T180000Z
DTEND:20120908T210000Z
X-MICROSOFT-CDO-ALLDAYEVENT:FALSE
SUMMARY:NewBridge Theatre Comapny Fall Class Registration!
DESCRIPTION:Fall Class Registration!  Come in and register in person for the Fall Acting\, Dance\, Writing\, Piano\, Guitar\, Yoga\, Soul Space\, Drawing\, Painting\, Pottery or Movement classes for ages 5+!
X-ALT-DESC;FMTTYPE=text/html:Fall Class Registration! &nbsp\;Come in and register in person for the Fall Acting\, Dance\, Writing\, Piano\, Guitar\, Yoga\, Soul Space\, Drawing\, Painting\, Pottery or Movement classes for ages 5+!
LOCATION:105 2nd St. E
UID:e.606.113704
SEQUENCE:3
DTSTAMP:20260420T012612Z
URL:https://www.hastingsmn.org/events/details/newbridge-theatre-comapny-fall-class-registration-09-08-2012-113704
END:VEVENT

END:VCALENDAR
