BEGIN:VCALENDAR
VERSION:2.0
PRODID:-//ChamberMaster//Event Calendar 2.0//EN
METHOD:PUBLISH
X-PUBLISHED-TTL:P3D
REFRESH-INTERVAL:P3D
CALSCALE:GREGORIAN
BEGIN:VEVENT
DTSTART:20120923T010000Z
DTEND:20120924T030000Z
X-MICROSOFT-CDO-ALLDAYEVENT:FALSE
SUMMARY:New York\, New York
DESCRIPTION:NewBridge Theatre Co. in conjunction with ArtReach St. Croix's "Take me to the River" Festival proudly present classic scenes and your favorite Broadway songs from yesterday and today.
X-ALT-DESC;FMTTYPE=text/html:<p>\n	NewBridge Theatre Co. in conjunction with ArtReach St. Croix&#39\;s &quot\;Take me to the River&quot\; Festival proudly present classic&nbsp\;scenes and your favorite Broadway songs from yesterday and today.</p>\n
LOCATION:NewBridge Theatre\, 105 2nd St E\, Hastings\, MN 55033
UID:e.606.113693
SEQUENCE:3
DTSTAMP:20260419T234238Z
URL:https://www.hastingsmn.org/events/details/new-york-new-york-09-22-2012-113693
END:VEVENT

END:VCALENDAR
