BEGIN:VCALENDAR
VERSION:2.0
PRODID:-//ChamberMaster//Event Calendar 2.0//EN
METHOD:PUBLISH
X-PUBLISHED-TTL:P3D
REFRESH-INTERVAL:P3D
CALSCALE:GREGORIAN
BEGIN:VEVENT
DTSTART:20120921T010000Z
DTEND:20120923T190000Z
X-MICROSOFT-CDO-ALLDAYEVENT:FALSE
SUMMARY:New York New York
DESCRIPTION:Broadway's finest Songs\, Scenes\, and Dances!  Come and enjoy some of the best of Broadway!
X-ALT-DESC;FMTTYPE=text/html:Broadway&#39\;s finest Songs\, Scenes\, and Dances! &nbsp\;Come and enjoy some of the best of Broadway!
LOCATION:105 2nd St. E Hastings\, MN 55033
UID:e.606.113703
SEQUENCE:3
DTSTAMP:20260420T012758Z
URL:https://www.hastingsmn.org/events/details/new-york-new-york-09-20-2012-113703
END:VEVENT

END:VCALENDAR
