BEGIN:VCALENDAR
VERSION:2.0
PRODID:-//ChamberMaster//Event Calendar 2.0//EN
METHOD:PUBLISH
X-PUBLISHED-TTL:P3D
REFRESH-INTERVAL:P3D
CALSCALE:GREGORIAN
BEGIN:VEVENT
DTSTART:20111231T223000Z
DTEND:20120101T060000Z
X-MICROSOFT-CDO-ALLDAYEVENT:FALSE
SUMMARY:New Years Eve at Afton House Inn
DESCRIPTION:This year ring in the New Year at the Afton House Inn.  Dine in our Wheel Room with linen table clothes.  Tableside Steak Diane will be available along a fabulous menu and the following features:\n\n	\n		Candy Onion Soup    \n	crouton   Wisconsin cave aged gryere\n	\n		Future Farms Red Oak & Belgium Endive \n	grilled meyer lemon   donnay chevre   grain mustard\n	\n		Lobster & Potato Ravioli            \n	black truffle beurre blanc   crispy shallot - mache\n	\n		6 oz fillet & Alaskan King Crab    \n	twice baked potato   caviar hollandaise   saffron drawn butter   asparagus\n	\n		Grass Fed Wisconsin New York Strip    \n	mushroom vol en vant   heirloom cabbage & carrot    merlot reduction\n	\n		Maple Sugar Spice Cake     \n	cream cheese ice cream   cornflake crispies   pomegranate \n\n\n	Joe Meyer will be singing & playing classical guitar to set the romantic ambience.  \n\n	Stay the night in one of our room's with a fireplace and Jacuzzi tub to make it a memorable New Years.
X-ALT-DESC;FMTTYPE=text/html:<p class="MsoNormal" style="margin: 0in 0in 0pt">\n	<span style="font-family: verdana"><font color="#000000">This year ring in the New Year at the Afton House Inn.<span style="mso-spacerun: yes">&nbsp\; </span>Dine in our Wheel Room with linen table clothes.<span style="mso-spacerun: yes">&nbsp\; </span>Tableside Steak Diane will be available along a fabulous menu and the following features:</font></span></p>\n<ul>\n	<li class="MsoNormal" style="margin: 0in 0in 0pt">\n		<span style="font-family: verdana"><font color="#000000"><b>Candy Onion Soup</b><span style="mso-tab-count: 1">&nbsp\;&nbsp\;&nbsp\; </span></font></span></li>\n	crouton &ndash\; Wisconsin cave aged gryere\n	<li class="MsoNormal" style="margin: 0in 0in 0pt">\n		<span style="font-family: verdana"><font color="#000000"><b>Future Farms Red Oak &amp\; Belgium Endive</b><span style="mso-tab-count: 1"> </span></font></span></li>\n	grilled meyer lemon &ndash\; donnay chevre &ndash\; grain mustard\n	<li class="MsoNormal" style="margin: 0in 0in 0pt">\n		<span style="font-family: verdana"><font color="#000000"><b>Lobster &amp\; Potato Ravioli</b><span style="mso-tab-count: 1">&nbsp\;&nbsp\;&nbsp\;&nbsp\;&nbsp\;&nbsp\;&nbsp\;&nbsp\;&nbsp\;&nbsp\;&nbsp\; </span></font></span></li>\n	black truffle beurre blanc &ndash\; crispy shallot - mache\n	<li class="MsoNormal" style="margin: 0in 0in 0pt">\n		<span style="font-family: verdana"><font color="#000000"><b>6 oz fillet &amp\; Alaskan King Crab</b><span style="mso-tab-count: 1">&nbsp\;&nbsp\;&nbsp\; </span></font></span></li>\n	twice baked potato &ndash\; caviar hollandaise &ndash\; saffron drawn butter &ndash\; asparagus\n	<li class="MsoNormal" style="margin: 0in 0in 0pt">\n		<span style="font-family: verdana"><font color="#000000"><b>Grass Fed Wisconsin New York Strip</b><span style="mso-tab-count: 1">&nbsp\;&nbsp\;&nbsp\; </span></font></span></li>\n	mushroom vol en vant &ndash\; heirloom cabbage &amp\; carrot&nbsp\; &ndash\; merlot reduction\n	<li class="MsoNormal" style="margin: 0in 0in 0pt">\n		<span style="font-family: verdana"><font color="#000000"><b>Maple Sugar Spice Cake</b><span style="mso-tab-count: 1">&nbsp\;&nbsp\;&nbsp\;&nbsp\; </span></font></span></li>\n	cream cheese ice cream &ndash\; cornflake crispies &ndash\; pomegranate&nbsp\;\n</ul>\n<p class="MsoNormal" style="margin: 0in 0in 0pt">\n	<span style="font-family: verdana"><font color="#000000">Joe Meyer will be singing &amp\; playing classical guitar to set the romantic ambience.<span style="mso-spacerun: yes">&nbsp\; </span></font></span></p>\n<p class="MsoNormal" style="margin: 0in 0in 0pt">\n	<span style="font-family: verdana"><font color="#000000">Stay the night in one of our room&rsquo\;s with a fireplace and Jacuzzi tub to make it a memorable New Years.<span style="mso-spacerun: yes">&nbsp\;&nbsp\;&nbsp\;&nbsp\;&nbsp\; </span></font></span></p>\n
LOCATION:3291 St. Croix Trail South\, Afton\, MN 55001
UID:e.606.113366
SEQUENCE:3
DTSTAMP:20260420T142331Z
URL:https://www.hastingsmn.org/events/details/new-years-eve-at-afton-house-inn-12-31-2011-113366
END:VEVENT

END:VCALENDAR
