BEGIN:VCALENDAR
VERSION:2.0
PRODID:-//ChamberMaster//Event Calendar 2.0//EN
METHOD:PUBLISH
X-PUBLISHED-TTL:P3D
REFRESH-INTERVAL:P3D
CALSCALE:GREGORIAN
BEGIN:VEVENT
DTSTART;VALUE=DATE:20110802
DTEND;VALUE=DATE:20110803
TRANSP:TRANSPARENT
X-MICROSOFT-CDO-ALLDAYEVENT:TRUE
SUMMARY:National Night OUt
DESCRIPTION:The Hastings Police asks that local National Night Out event organizers register their gatherings.  Registration helps polica dn fire dapartment staff to plan a visit to your gathering.    National Night Out is an annual event that involuves nieghborhoods\, businesses and civic groups coming together with local law enforcement and local government officals to increase community cohesiveness and heighten crime and drug prevention awareness.
X-ALT-DESC;FMTTYPE=text/html:The Hastings Police asks that local National Night Out event organizers register their gatherings.&nbsp\; Registration helps polica dn fire dapartment staff to plan a visit to your gathering.&nbsp\;&nbsp\;&nbsp\; National Night Out is an annual event that involuves nieghborhoods\, businesses and civic groups coming together with local law enforcement and local government officals to increase community cohesiveness and heighten crime and drug prevention awareness.
LOCATION:
UID:e.606.113289
SEQUENCE:3
DTSTAMP:20260420T224542Z
URL:https://www.hastingsmn.org/events/details/national-night-out-08-02-2011-113289
END:VEVENT

END:VCALENDAR
