BEGIN:VCALENDAR
VERSION:2.0
PRODID:-//ChamberMaster//Event Calendar 2.0//EN
METHOD:PUBLISH
X-PUBLISHED-TTL:P3D
REFRESH-INTERVAL:P3D
CALSCALE:GREGORIAN
BEGIN:VEVENT
DTSTART:20100509T160000Z
DTEND:20100509T180000Z
X-MICROSOFT-CDO-ALLDAYEVENT:FALSE
SUMMARY:Mother's Day Sunday Champagne Brunch Cruise
DESCRIPTION:Cruises from 11:00am - 1:00pm \n\n&   \n\n2:30-4:30pm\n\nDeparting from Hudson\, WI\n\nBoarding is 30 minutes prior to cruise\n\nAdults $29.95 ~ Child 10 & under $16.00 ~ Tots 2 & under $6.00\n\nCash Bar Available\n\nAdvance ticket purchase required.  Tickets are non-refundable\n\n\n\n\n\n\n\nMenu\n\nEnjoy a complimentary glass of champagne as your board.\n\nAssorted Fresh Fruits - Assorted Domestic & International Cheeses with Crackers  \n\nHouse Made Pasta Salad- Mediterranean Salad \n\nScrambled Eggs - Cheese Omelettes with Hollondaise\n\nHerbed Roasted Potatoes- Hot Vegetable Medley \n\nApple Filled Pancakes - Rolls & Butter\n\nThree Meats - Sausage Links\, Sliced Honey Glazed Ham \n\nParmesan Baked Cod - Herb Baked Chicken - Beef Bordelaise \n\nPies & Cakes - Muffins & Pastries\n\nOrange Juice for kids\n\nCoffee for adults
X-ALT-DESC;FMTTYPE=text/html:Cruises from 11:00am - 1:00pm \n<br>&amp\;   \n<br>2:30-4:30pm\n<br>Departing from Hudson\, WI\n<br>Boarding is 30 minutes prior to cruise\n<br>Adults $29.95 ~ Child 10 &amp\; under $16.00 ~ Tots 2 &amp\; under $6.00\n<br>Cash Bar Available\n<br>Advance ticket purchase required.  Tickets are non-refundable\n<br>\n<br>\n<br>\n<br>Menu\n<br>Enjoy a complimentary glass of champagne as your board.\n<br>Assorted Fresh Fruits - Assorted Domestic &amp\; International Cheeses with Crackers  \n<br>House Made Pasta Salad- Mediterranean Salad \n<br>Scrambled Eggs - Cheese Omelettes with Hollondaise\n<br>Herbed Roasted Potatoes- Hot Vegetable Medley \n<br>Apple Filled Pancakes - Rolls &amp\; Butter\n<br>Three Meats - Sausage Links\, Sliced Honey Glazed Ham \n<br>Parmesan Baked Cod - Herb Baked Chicken - Beef Bordelaise \n<br>Pies &amp\; Cakes - Muffins &amp\; Pastries\n<br>Orange Juice for kids\n<br>Coffee for adults\n<br>\n<br>
LOCATION:Afton House Inn Hudson\, Wi
UID:e.606.111551
SEQUENCE:3
DTSTAMP:20260425T170746Z
URL:https://www.hastingsmn.org/events/details/mother-s-day-sunday-champagne-brunch-cruise-05-09-2010-111551
END:VEVENT

END:VCALENDAR
