BEGIN:VCALENDAR
VERSION:2.0
PRODID:-//ChamberMaster//Event Calendar 2.0//EN
METHOD:PUBLISH
X-PUBLISHED-TTL:P3D
REFRESH-INTERVAL:P3D
CALSCALE:GREGORIAN
BEGIN:VEVENT
DTSTART:20100509T140000Z
DTEND:20100509T220000Z
X-MICROSOFT-CDO-ALLDAYEVENT:FALSE
SUMMARY:Mother's Day Sunday Brunch
DESCRIPTION:Menu\n\nFresh Fruit Display\n\nAssorted Cheese & Crackers Display\n\nAssorted Vegetable Platter\n\nGarden Salad with assorted Dressings\n\nAssorted House Made Pasta Salads\n\nRolls & Butter\n\n------------------------- \n\nTraditional Eggs Benedict with Hollandaise\n\n\n\nScrambled Eggs\n\n\n\nPotatoes OBrien\n\nRice Pilaf\n\nSeasoned Chef's Vegetables\n\n\n\nApple Stuffed Pancakes with Maple and Blueberry Syrup\n\n\n\nKielbasa links\, Pork Sausage\, Sliced Honey Glazed Ham\n\n\n\nBeef Bordelaise\n\n\n\nChicken Champagne\n\n\n\nThree Cheese Penne Pasta\n\nRosemary Roasted Pork Loin\n\n\n\n--------------------------\n\n\n\nChocolate Dipped Strawberries\n\nMini Assorted Cheese Cakes\n\nAssorted Cakes and Pies\n\n\n\nPastries\n\nFruit Punch\n\n\n\n\n\n\n\nINCLUDES: Non-alcoholic beverage - Coffee\, Juice\, Tea or Soda\n\n\n\n \n\nAdults - $23.95 - Child 10 & under $13.95 \n\nTots 5 and under $6.95
X-ALT-DESC;FMTTYPE=text/html:\n<br>Menu\n<br>Fresh Fruit Display\n<br>Assorted Cheese &amp\; Crackers Display\n<br>Assorted Vegetable Platter\n<br>Garden Salad with assorted Dressings\n<br>Assorted House Made Pasta Salads\n<br>Rolls &amp\; Butter\n<br>------------------------- \n<br>Traditional Eggs Benedict with Hollandaise\n<br>\n<br>Scrambled Eggs\n<br>\n<br>Potatoes OBrien\n<br>Rice Pilaf\n<br>Seasoned Chef's Vegetables\n<br>\n<br>Apple Stuffed Pancakes with Maple and Blueberry Syrup\n<br>\n<br>Kielbasa links\, Pork Sausage\, Sliced Honey Glazed Ham\n<br>\n<br>Beef Bordelaise\n<br>\n<br>Chicken Champagne\n<br>\n<br>Three Cheese Penne Pasta\n<br>Rosemary Roasted Pork Loin\n<br>\n<br>--------------------------\n<br>\n<br>Chocolate Dipped Strawberries\n<br>Mini Assorted Cheese Cakes\n<br>Assorted Cakes and Pies\n<br>\n<br>Pastries\n<br>Fruit Punch\n<br>\n<br>\n<br>\n<br>INCLUDES: Non-alcoholic beverage - Coffee\, Juice\, Tea or Soda\n<br>\n<br> \n<br>Adults - $23.95 - Child 10 &amp\; under $13.95 \n<br>Tots 5 and under $6.95\n<br>                                                                                                             \n<br>\n<br> \n<br>
LOCATION:Afton House Inn Afton\, MN
UID:e.606.111550
SEQUENCE:3
DTSTAMP:20260425T170555Z
URL:https://www.hastingsmn.org/events/details/mother-s-day-sunday-brunch-05-09-2010-111550
END:VEVENT

END:VCALENDAR
