BEGIN:VCALENDAR
VERSION:2.0
PRODID:-//ChamberMaster//Event Calendar 2.0//EN
METHOD:PUBLISH
X-PUBLISHED-TTL:P3D
REFRESH-INTERVAL:P3D
CALSCALE:GREGORIAN
BEGIN:VEVENT
DTSTART:20110508T160000Z
DTEND:20110508T213000Z
X-MICROSOFT-CDO-ALLDAYEVENT:FALSE
SUMMARY:Mother's Day Champagne Brunch Cruise
DESCRIPTION:Enjoy a complimentary glass of champagne as your board.\n\nAssorted Fresh Fruits - Assorted Domestic Cheeses with Crackers  \n\nHouse Made Pasta Salad- Caesar Salad \n\nScrambled Eggs with Cheese\n\nHerbed Roasted Potatoes- Hot Vegetable Medley \n\nApple Filled Pancakes - Rolls & Butter\n\nSausage Links & Sliced Honey Glazed Ham \n\nParmesan Baked Cod - Herb Baked Chicken - Beef Bordelaise \n\nDessert Cakes - Muffins & Danishes\n\nOrange Juice for kids\n\nCoffee for adults
X-ALT-DESC;FMTTYPE=text/html:Enjoy a complimentary glass of champagne as your board.\n<br>Assorted Fresh Fruits - Assorted Domestic Cheeses with Crackers  \n<br>House Made Pasta Salad- Caesar Salad \n<br>Scrambled Eggs with Cheese\n<br>Herbed Roasted Potatoes- Hot Vegetable Medley \n<br>Apple Filled Pancakes - Rolls &amp\; Butter\n<br>Sausage Links &amp\; Sliced Honey Glazed Ham \n<br>Parmesan Baked Cod - Herb Baked Chicken - Beef Bordelaise \n<br>Dessert Cakes - Muffins &amp\; Danishes\n<br>Orange Juice for kids\n<br>Coffee for adults\n<br>\n<br>
LOCATION:98 Walnut Street\, Hudson\, Wi
UID:e.606.112786
SEQUENCE:3
DTSTAMP:20260421T043723Z
URL:https://www.hastingsmn.org/events/details/mother-s-day-champagne-brunch-cruise-05-08-2011-112786
END:VEVENT

END:VCALENDAR
