BEGIN:VCALENDAR
VERSION:2.0
PRODID:-//ChamberMaster//Event Calendar 2.0//EN
METHOD:PUBLISH
X-PUBLISHED-TTL:P3D
REFRESH-INTERVAL:P3D
CALSCALE:GREGORIAN
BEGIN:VEVENT
DTSTART;VALUE=DATE:20110415
DTEND;VALUE=DATE:20110416
TRANSP:TRANSPARENT
X-MICROSOFT-CDO-ALLDAYEVENT:TRUE
SUMMARY:Mother's Day Brunch Cruise
DESCRIPTION:Mother's Day will receive a glass of champagne as they board the Grand Duchess boat. While cruising down the beautiful St. Croix River you will delight in an outstanding brunch. Our brunch includes salads\, breakfast entrees\, lunch entrees and dessert!
X-ALT-DESC;FMTTYPE=text/html:Mother&#39\;s Day will receive a glass of champagne as they board the Grand Duchess boat. While cruising down the beautiful St. Croix River you will delight in an outstanding brunch. Our brunch includes salads\, breakfast entrees\, lunch entrees and dessert! 
LOCATION:98 Walnut Street\, Hudson\, WI on the Grand Duchess
UID:e.606.112782
SEQUENCE:3
DTSTAMP:20260421T062817Z
URL:https://www.hastingsmn.org/events/details/mother-s-day-brunch-cruise-04-15-2011-112782
END:VEVENT

END:VCALENDAR
