BEGIN:VCALENDAR
VERSION:2.0
PRODID:-//ChamberMaster//Event Calendar 2.0//EN
METHOD:PUBLISH
X-PUBLISHED-TTL:P3D
REFRESH-INTERVAL:P3D
CALSCALE:GREGORIAN
BEGIN:VEVENT
DTSTART:20110508T140000Z
DTEND:20110508T220000Z
X-MICROSOFT-CDO-ALLDAYEVENT:FALSE
SUMMARY:Mother's Day Brunch at Afton House Inn
DESCRIPTION:Mother?s Day Brunch will have a breakfast\, lunch\, dessert items and much more on the buffet.  We will set up two brunch buffets so you will not have to wait in long lines to eat.  Call for reservations before we are full.   Our last seating is at 5pm.
X-ALT-DESC;FMTTYPE=text/html:Mother?s Day Brunch will have a breakfast\, lunch\, dessert items and much more on the buffet.  We will set up two brunch buffets so you will not have to wait in long lines to eat.  Call for reservations before we are full.   Our last seating is at 5pm.
LOCATION:3291 St. Croix Trail South\, Afton\, MN
UID:e.606.112783
SEQUENCE:3
DTSTAMP:20260421T061357Z
URL:https://www.hastingsmn.org/events/details/mother-s-day-brunch-at-afton-house-inn-05-08-2011-112783
END:VEVENT

END:VCALENDAR
