BEGIN:VCALENDAR
VERSION:2.0
PRODID:-//ChamberMaster//Event Calendar 2.0//EN
METHOD:PUBLISH
X-PUBLISHED-TTL:P3D
REFRESH-INTERVAL:P3D
CALSCALE:GREGORIAN
BEGIN:VEVENT
DTSTART:20100521T233000Z
DTEND:20100522T020000Z
X-MICROSOFT-CDO-ALLDAYEVENT:FALSE
SUMMARY:Morel Fest Wine and Drinner Cruise
DESCRIPTION:The Grand Duchess Yacht Charter Boat on the St. Croix River \n500 1st St. Hudson\, WI 54016 \nMap \n\n6pm Boarding. Cruise from 6:30 - 9:00pm \n\nChef Jim Kyndberg of the Bayport Cookery is back ..with Morels along side Dave Jarvis \nof the Afton House Inn for the 2nd Annual Morel Fest Cruise on the beautiful St. Croix River.
X-ALT-DESC;FMTTYPE=text/html:<div>The Grand Duchess Yacht Charter Boat on the St. Croix River <br />500 1st St. Hudson\, WI 54016 <br />Map <br /><br />6pm Boarding. Cruise from 6:30&nbsp\;- 9:00pm <br /><br />Chef Jim Kyndberg of the Bayport Cookery is back ..with Morels along side Dave Jarvis <br />of the Afton House Inn for the 2nd Annual Morel Fest Cruise on the beautiful St. Croix River. <br />&nbsp\;</div>
LOCATION:Hudson\, WI St. Croix River Cruise
UID:e.606.111558
SEQUENCE:3
DTSTAMP:20260425T170454Z
URL:https://www.hastingsmn.org/events/details/morel-fest-wine-and-drinner-cruise-05-21-2010-111558
END:VEVENT

END:VCALENDAR
