BEGIN:VCALENDAR
VERSION:2.0
PRODID:-//ChamberMaster//Event Calendar 2.0//EN
METHOD:PUBLISH
X-PUBLISHED-TTL:P3D
REFRESH-INTERVAL:P3D
CALSCALE:GREGORIAN
BEGIN:VEVENT
DTSTART:20121013T190000Z
DTEND:20121014T010000Z
X-MICROSOFT-CDO-ALLDAYEVENT:FALSE
SUMMARY:More Grave Truths- Ghosts & Gossip - Lakeside Cemetery Walk
DESCRIPTION:Returning by popular demand\, on Saturday\, October 13\, from 2-8 p.m.  Visitors will meet the friendly spirits of Hastings citizens who were friends\, neighbors & acquaintances of the LeDuc family as they take a guided walk through Lakeside Cemetery.  Tours on the hour & prospective guests must make reservations by calling 651-437-7055.  Last tour will begin at 8:00.   $7 per person.  Parking details will be available at the time reservations are made. Please use West entrance.
X-ALT-DESC;FMTTYPE=text/html:Returning by popular demand\, on Saturday\, October 13\, from 2-8 p.m.&nbsp\;&nbsp\;Visitors will meet the friendly spirits of Hastings citizens who were friends\, neighbors &amp\; acquaintances of the LeDuc family as they take a guided walk through Lakeside Cemetery. &nbsp\;Tours on the hour &amp\; prospective guests must make reservations by calling 651-437-7055.&nbsp\;&nbsp\;Last tour will begin at 8:00.&nbsp\;&nbsp\;<span _fck_bookmark="1" style="display: none">&nbsp\;</span>$7 per person. &nbsp\;Parking details will be available at the time reservations are made. Please use West entrance.
LOCATION:Lakeside Cemetery 920 Nininger Rd Hastings\, MN 55033 Please use West entrance.
UID:e.606.113709
SEQUENCE:3
DTSTAMP:20260419T215725Z
URL:https://www.hastingsmn.org/events/details/more-grave-truths-ghosts-gossip-lakeside-cemetery-walk-10-13-2012-113709
END:VEVENT

END:VCALENDAR
