BEGIN:VCALENDAR
VERSION:2.0
PRODID:-//ChamberMaster//Event Calendar 2.0//EN
METHOD:PUBLISH
X-PUBLISHED-TTL:P3D
REFRESH-INTERVAL:P3D
CALSCALE:GREGORIAN
BEGIN:VEVENT
DTSTART:20111015T190000Z
DTEND:20111016T010000Z
X-MICROSOFT-CDO-ALLDAYEVENT:FALSE
SUMMARY:More Grave Truths Cemetery Walk
DESCRIPTION:The tour will be led by the spirit Emma LeDuc Claflin as she searches for her unmarked grave at Lakeside Cemetery.  Her quest will take her to the spirits of LeDuc family members\, some of their friends and prominent early Hastings citizens.\n\n\n\nTour times are every hour beginning at 2 p.m. and continuing through 8 p.m.  Tours are $5 per person and advance payment needs to be made when making reservations.  Tour groups consist of 15 people only.  Call 651-437-7055 for reservations.  Attendees will park at the LeDuc Historic Estate parking lot and will be transported to and from the cemetery. \n\n\n\nIn case of rain\, make-up date will be October 22\, same times.
X-ALT-DESC;FMTTYPE=text/html:The tour will be led by the spirit Emma LeDuc Claflin as she searches for her unmarked grave at Lakeside Cemetery. &nbsp\;Her quest will take her to the spirits of LeDuc family members\, some of their friends and prominent early Hastings citizens.<br />\n<br />\nTour times are every hour beginning at 2 p.m. and continuing through 8 p.m. &nbsp\;Tours are $5 per person and advance payment needs to be made when making reservations. &nbsp\;Tour groups consist of 15 people only. &nbsp\;Call 651-437-7055 for reservations. &nbsp\;Attendees will park at the LeDuc Historic Estate parking lot and will be transported to and from the cemetery.&nbsp\;<br />\n<br />\nIn case of rain\, make-up date will be October 22\, same times.
LOCATION:LeDuc Historic Estate 1629 Vermillion Street\, Hastings\, MN 55033
UID:e.606.113317
SEQUENCE:3
DTSTAMP:20260420T205114Z
URL:https://www.hastingsmn.org/events/details/more-grave-truths-cemetery-walk-10-15-2011-113317
END:VEVENT

END:VCALENDAR
