BEGIN:VCALENDAR
VERSION:2.0
PRODID:-//ChamberMaster//Event Calendar 2.0//EN
METHOD:PUBLISH
X-PUBLISHED-TTL:P3D
REFRESH-INTERVAL:P3D
CALSCALE:GREGORIAN
BEGIN:VEVENT
DTSTART:20100227T010000Z
DTEND:20100227T030000Z
X-MICROSOFT-CDO-ALLDAYEVENT:FALSE
SUMMARY:Moonlight Snowshoe Hike
DESCRIPTION:Enjoy a winter night under the light of the moon with a relaxing snowshoe hike.  Afterwards warm up by the fire and enjoy some fresh popcorn and hot apple cider.  Snowshoes provided or bring your own. Dress appropriately for the weather\; recommended for ages 10 and up.
X-ALT-DESC;FMTTYPE=text/html:<div>Enjoy a winter night under the light of the moon with a relaxing snowshoe hike.&nbsp\; Afterwards warm up by the fire and enjoy some fresh popcorn and hot apple cider.&nbsp\; Snowshoes provided or bring your own.&nbsp\;<span style="font-size: x-small"><span style="font-family: Arial">Dress appropriately for the weather\; recommended for ages 10 and up.</span></span></div>
LOCATION:Carpenter St. Croix Nature Center12805 St. Croix TrailHastings\, MN 55033
UID:e.606.111526
SEQUENCE:3
DTSTAMP:20260425T211620Z
URL:https://www.hastingsmn.org/events/details/moonlight-snowshoe-hike-02-26-2010-111526
END:VEVENT

END:VCALENDAR
