BEGIN:VCALENDAR
VERSION:2.0
PRODID:-//ChamberMaster//Event Calendar 2.0//EN
METHOD:PUBLISH
X-PUBLISHED-TTL:P3D
REFRESH-INTERVAL:P3D
CALSCALE:GREGORIAN
BEGIN:VEVENT
DTSTART:20110219T010000Z
DTEND:20110219T030000Z
X-MICROSOFT-CDO-ALLDAYEVENT:FALSE
SUMMARY:Moonlight Snowshoe Hike
DESCRIPTION:Enjoy a winter night under the moonlight with a relaxing snowshoe hike at Carpenter Nature Center.  Afterward\, warm up by the fire and enjoy some fresh popcorn and hot apple cider.  Snowshoes provided or bring your own.  Dress appropriately for the weather\; recommended for ages 10 and up.    THIS EVENT IS SOLD OUT.
X-ALT-DESC;FMTTYPE=text/html:<div>\n	<p>\n		<span style="font-size: 11px"><span style="font-family: arial">Enjoy a winter night under the moonlight with a relaxing snowshoe hike at Carpenter Nature Center.&nbsp\; Afterward\, warm up by the fire and enjoy some fresh popcorn and hot apple cider.&nbsp\; Snowshoes provided or bring your own.&nbsp\; Dress appropriately for the weather\; recommended for ages 10 and up.&nbsp\;&nbsp\;&nbsp\; <span style="color: #ff0000"><span style="background-color: #ffffff">THIS EVENT IS SOLD </span><span style="background-color: #ffffff">OUT.</span></span></span></span></p>\n</div>\n
LOCATION:Carpenter St. Croix Nature Center12805 St. Croix TrailHastings\, MN 55033
UID:e.606.112021
SEQUENCE:3
DTSTAMP:20260421T112031Z
URL:https://www.hastingsmn.org/events/details/moonlight-snowshoe-hike-02-18-2011-112021
END:VEVENT

END:VCALENDAR
