BEGIN:VCALENDAR
VERSION:2.0
PRODID:-//ChamberMaster//Event Calendar 2.0//EN
METHOD:PUBLISH
X-PUBLISHED-TTL:P3D
REFRESH-INTERVAL:P3D
CALSCALE:GREGORIAN
BEGIN:VEVENT
DTSTART:20110115T010000Z
DTEND:20110115T030000Z
X-MICROSOFT-CDO-ALLDAYEVENT:FALSE
SUMMARY:Moonlight Snowshoe HIke
DESCRIPTION:Enjoy a winter night under the moonlight with a relaxing snowshoe hike at Carpenter Nature Center.  Afterward\, warm up by the fire and enjoy some fresh popcorn and hot apple cider.  Snowshoes provided or bring your own.  Dress appropriately for the weather\; recommended for ages 10 and up. Call 651-437-4359 for reservations.  Program fee: $8.00 per person or $5.00 for "Friends of CNC"
X-ALT-DESC;FMTTYPE=text/html:<p>\n	<span style="font-size: 11px"><span style="font-family: arial">Enjoy a winter night under the moonlight with a relaxing snowshoe hike at Carpenter Nature Center.&nbsp\; Afterward\, warm up by the fire and enjoy some fresh popcorn and hot apple cider.&nbsp\; Snowshoes provided or bring your own.&nbsp\; Dress appropriately for the weather\; recommended for ages 10 and up. Call 651-437-4359 for reservations.&nbsp\; Program fee: $8.00 per person or $5.00 for &ldquo\;Friends of CNC&rdquo\;</span></span></p>\n<p>\n	<br class="spacer_" />\n	<span _fck_bookmark="1" style="display: none">&nbsp\;</span></p>\n
LOCATION:Carpenter Nature Center 12805 St. Croix Trail S Hastings MN 55033
UID:e.606.112020
SEQUENCE:3
DTSTAMP:20260421T112404Z
URL:https://www.hastingsmn.org/events/details/moonlight-snowshoe-hike-01-14-2011-112020
END:VEVENT

END:VCALENDAR
